
BEGIN:VCALENDAR
VERSION:2.0
PRODID:-//Πεζοπόροι Χαλανδρίου &quot;Ευριπίδης&quot; - ECPv6.15.17.1//NONSGML v1.0//EN
CALSCALE:GREGORIAN
METHOD:PUBLISH
X-ORIGINAL-URL:https://pezoporoihalandriou.gr
X-WR-CALDESC:Πεζοπόροι Χαλανδρίου &quot;Ευριπίδης&quot; - Εκδηλώσεις
REFRESH-INTERVAL;VALUE=DURATION:PT1H
X-Robots-Tag:noindex
X-PUBLISHED-TTL:PT1H
BEGIN:VTIMEZONE
TZID:Europe/Athens
BEGIN:DAYLIGHT
TZOFFSETFROM:+0200
TZOFFSETTO:+0300
TZNAME:EEST
DTSTART:20220327T010000
END:DAYLIGHT
BEGIN:STANDARD
TZOFFSETFROM:+0300
TZOFFSETTO:+0200
TZNAME:EET
DTSTART:20221030T010000
END:STANDARD
BEGIN:DAYLIGHT
TZOFFSETFROM:+0200
TZOFFSETTO:+0300
TZNAME:EEST
DTSTART:20230326T010000
END:DAYLIGHT
BEGIN:STANDARD
TZOFFSETFROM:+0300
TZOFFSETTO:+0200
TZNAME:EET
DTSTART:20231029T010000
END:STANDARD
BEGIN:DAYLIGHT
TZOFFSETFROM:+0200
TZOFFSETTO:+0300
TZNAME:EEST
DTSTART:20240331T010000
END:DAYLIGHT
BEGIN:STANDARD
TZOFFSETFROM:+0300
TZOFFSETTO:+0200
TZNAME:EET
DTSTART:20241027T010000
END:STANDARD
END:VTIMEZONE
BEGIN:VEVENT
DTSTART;VALUE=DATE:20230604
DTEND;VALUE=DATE:20230605
DTSTAMP:20260419T154020
CREATED:20230604T124617Z
LAST-MODIFIED:20240722T120639Z
UID:3672-1685836800-1685923199@pezoporoihalandriou.gr
SUMMARY:Κυριακή 4 Ιουνίου 2023: Πεζοπορία στον Καταρράκτη της Ραπεντώσας
DESCRIPTION:Θα ξεκινήσουμε την πεζοπορία μας από το Φράγμα μέσα στο πανέμορφο φαράγγι με τελικό προορισμό τον Καταρράκτη της Ραπεντώσας. Πρόκειται για μια εκπληκτική διαδρομή 5 χλμ.\, μέσα από το ποτάμι\, μέχρι τα κρυστάλλινα νερά του καταρράκτη. Όσοι συμμετέχοντες επιθυμούν\, μπορούν να κολυμπήσουν στα δροσερά νερά της λίμνης. \nΣημείο συνάντησης : 09:45 πμ. στο Φράγμα της Ραπεντώσας
URL:https://pezoporoihalandriou.gr/event/kyriaki-4-iouniou-pezoporia-ston-katarrakti-tis-rapentosas/
CATEGORIES:Εκδηλώσεις 2023,Πεζοπορικές διαδρομές
ATTACH;FMTTYPE=image/jpeg:https://pezoporoihalandriou.gr/evripidis/wp-content/uploads/2023/06/4.jpg
END:VEVENT
BEGIN:VEVENT
DTSTART;VALUE=DATE:20230611
DTEND;VALUE=DATE:20230612
DTSTAMP:20260419T154020
CREATED:20230611T124958Z
LAST-MODIFIED:20230611T124958Z
UID:3673-1686441600-1686527999@pezoporoihalandriou.gr
SUMMARY:Κυριακή 11 Ιουνίου 2023 : Η Αγωνιστική Ομάδα θα τρέξει στον αγώνα Argithea Mountain Race
DESCRIPTION:Η Αγωνιστική ομάδα του συλλόγου μας θα τρέξει τον αγώνα 10 χλμ. που θα διεξαχθεί την Κυριακή 11 Ιουνίου 2023 στην Αργιθέα Καρδίτσας\, το Argithea Mountain Race. Πρόκειται για την διεξαγωγή αγώνων 21 χλμ\, 10 χλμ.\, 5 χλμ. και 1 χλμ. ανάμεσα στις ομορφιές που αναδεικνύονται από τις κορυφές Τσμί 1.911 μ.\, Ντελιδίμι 2.163 μ.\, Βουτσικάκι 2.152 μ.\, Καζάρμα 1.977 μ. και Καράβα 2.184 μ..
URL:https://pezoporoihalandriou.gr/event/kyriaki-11-iouniou-i-agonistiki-omada-tha-treksei-ston-agona-argithea-mountain-race/
CATEGORIES:Αγωνιστική Ομάδα,Εκδηλώσεις 2023
END:VEVENT
END:VCALENDAR