
BEGIN:VCALENDAR
VERSION:2.0
PRODID:-//Πεζοπόροι Χαλανδρίου &quot;Ευριπίδης&quot; - ECPv6.15.20//NONSGML v1.0//EN
CALSCALE:GREGORIAN
METHOD:PUBLISH
X-ORIGINAL-URL:https://pezoporoihalandriou.gr
X-WR-CALDESC:Πεζοπόροι Χαλανδρίου &quot;Ευριπίδης&quot; - Εκδηλώσεις
REFRESH-INTERVAL;VALUE=DURATION:PT1H
X-Robots-Tag:noindex
X-PUBLISHED-TTL:PT1H
BEGIN:VTIMEZONE
TZID:Europe/Athens
BEGIN:DAYLIGHT
TZOFFSETFROM:+0200
TZOFFSETTO:+0300
TZNAME:EEST
DTSTART:20200329T010000
END:DAYLIGHT
BEGIN:STANDARD
TZOFFSETFROM:+0300
TZOFFSETTO:+0200
TZNAME:EET
DTSTART:20201025T010000
END:STANDARD
BEGIN:DAYLIGHT
TZOFFSETFROM:+0200
TZOFFSETTO:+0300
TZNAME:EEST
DTSTART:20210328T010000
END:DAYLIGHT
BEGIN:STANDARD
TZOFFSETFROM:+0300
TZOFFSETTO:+0200
TZNAME:EET
DTSTART:20211031T010000
END:STANDARD
BEGIN:DAYLIGHT
TZOFFSETFROM:+0200
TZOFFSETTO:+0300
TZNAME:EEST
DTSTART:20220327T010000
END:DAYLIGHT
BEGIN:STANDARD
TZOFFSETFROM:+0300
TZOFFSETTO:+0200
TZNAME:EET
DTSTART:20221030T010000
END:STANDARD
END:VTIMEZONE
BEGIN:VEVENT
DTSTART;VALUE=DATE:20210828
DTEND;VALUE=DATE:20210829
DTSTAMP:20260422T160010
CREATED:20210828T071127Z
LAST-MODIFIED:20240531T104641Z
UID:91-1630108800-1630195199@pezoporoihalandriou.gr
SUMMARY:Σάββατο 28 Αυγούστου 2021: 3ο Εθελοντικό Πότισμα στην περιοχή του Κοκκιναρά Κηφισιάς
DESCRIPTION:Μέλη του συλλόγου μας συμμετείχαν στο 3ο Εθελοντικό Πότισμα στην περιοχή του Κοκκιναρά Κηφισιάς που αναδασώθηκε το 2018\, δίνοντας δροσιά και ζωή στα δεντράκια που φυτεύτηκαν τα προηγούμενα χρόνια\, και συμβάλλοντας στην προσπάθεια να ξαναγίνει καταπράσινη η Βορειανατολική Αττική
URL:https://pezoporoihalandriou.gr/event/savvato-28-avgoystou-3o-ethelontiko-potisma-stin-perioxi-tou-kokkinara-kifisias/
CATEGORIES:Εκδηλώσεις 2021,Κοινωνικές Δράσεις - Φιλανθρωπικό Έργο
ATTACH;FMTTYPE=image/jpeg:https://pezoporoihalandriou.gr/evripidis/wp-content/uploads/2021/08/00_new_01_161.jpg
END:VEVENT
END:VCALENDAR