
BEGIN:VCALENDAR
VERSION:2.0
PRODID:-//Πεζοπόροι Χαλανδρίου &quot;Ευριπίδης&quot; - ECPv6.15.20//NONSGML v1.0//EN
CALSCALE:GREGORIAN
METHOD:PUBLISH
X-ORIGINAL-URL:https://pezoporoihalandriou.gr
X-WR-CALDESC:Πεζοπόροι Χαλανδρίου &quot;Ευριπίδης&quot; - Εκδηλώσεις
REFRESH-INTERVAL;VALUE=DURATION:PT1H
X-Robots-Tag:noindex
X-PUBLISHED-TTL:PT1H
BEGIN:VTIMEZONE
TZID:Europe/Athens
BEGIN:DAYLIGHT
TZOFFSETFROM:+0200
TZOFFSETTO:+0300
TZNAME:EEST
DTSTART:20210328T010000
END:DAYLIGHT
BEGIN:STANDARD
TZOFFSETFROM:+0300
TZOFFSETTO:+0200
TZNAME:EET
DTSTART:20211031T010000
END:STANDARD
BEGIN:DAYLIGHT
TZOFFSETFROM:+0200
TZOFFSETTO:+0300
TZNAME:EEST
DTSTART:20220327T010000
END:DAYLIGHT
BEGIN:STANDARD
TZOFFSETFROM:+0300
TZOFFSETTO:+0200
TZNAME:EET
DTSTART:20221030T010000
END:STANDARD
BEGIN:DAYLIGHT
TZOFFSETFROM:+0200
TZOFFSETTO:+0300
TZNAME:EEST
DTSTART:20230326T010000
END:DAYLIGHT
BEGIN:STANDARD
TZOFFSETFROM:+0300
TZOFFSETTO:+0200
TZNAME:EET
DTSTART:20231029T010000
END:STANDARD
END:VTIMEZONE
BEGIN:VEVENT
DTSTART;VALUE=DATE:20220605
DTEND;VALUE=DATE:20220606
DTSTAMP:20260421T203315
CREATED:20220605T000000Z
LAST-MODIFIED:20241014T090810Z
UID:3-1654387200-1654473599@pezoporoihalandriou.gr
SUMMARY:Κυριακή 5 Ιουνίου 2022: Γιορτάζουμε την Παγκόσμια Ημέρα Περιβάλλοντος με το 2ο HIDRANT festival
DESCRIPTION:συνδιοργανώνοντας μέρος του προγράμματος των ολοήμερων δράσεων γύρω από τη Ρεματιά και το Αδριάνειο Υδραγωγείο. Το πρόγραμμα περιλαμβάνει περίπατο και καθαρισμό στις όχθες της Ρεματιάς\, ιστορικό περίπατο στις συνοικίες του Παλιού και Νέου Συνοικισμού του Χαλανδρίου\, και γλέντι με φαγητό\, μουσική και παραδοσιακούς χορούς στο πάρκο του Συνοικισμού. \nΕκκίνηση της πρώτης δράσης στις 10:00 π.μ. στο Πλάτωμα του Προφήτη Ηλία της Ρεματιάς για περίπατο και καθαρισμό της Ρεματιάς. Αναλυτικά το Δελτίο Τύπου του Δήμου Χαλανδρίου και το πρόγραμμα στον σύνδεσμο : https://www.chalandri.gr/uncategorized/83023/
URL:https://pezoporoihalandriou.gr/event/kyriaki-5-iouniou-giortazoume-tin-pagkosmia-imera-perivallontos-me-to-2o-hidrant-festival/
LOCATION:ρεματιά Χαλανδρίου\, ρεματιά\, Χαλάνδρι\, Greece
CATEGORIES:Κοινωνικές Δράσεις - Φιλανθρωπικό Έργο
ATTACH;FMTTYPE=image/jpeg:https://pezoporoihalandriou.gr/evripidis/wp-content/uploads/2022/06/2o_hidrant_festival.jpg
END:VEVENT
END:VCALENDAR