
BEGIN:VCALENDAR
VERSION:2.0
PRODID:-//Πεζοπόροι Χαλανδρίου &quot;Ευριπίδης&quot; - ECPv6.15.20//NONSGML v1.0//EN
CALSCALE:GREGORIAN
METHOD:PUBLISH
X-WR-CALNAME:Πεζοπόροι Χαλανδρίου &quot;Ευριπίδης&quot;
X-ORIGINAL-URL:https://pezoporoihalandriou.gr
X-WR-CALDESC:Πεζοπόροι Χαλανδρίου &quot;Ευριπίδης&quot; - Εκδηλώσεις
REFRESH-INTERVAL;VALUE=DURATION:PT1H
X-Robots-Tag:noindex
X-PUBLISHED-TTL:PT1H
BEGIN:VTIMEZONE
TZID:Europe/Athens
BEGIN:DAYLIGHT
TZOFFSETFROM:+0200
TZOFFSETTO:+0300
TZNAME:EEST
DTSTART:20190331T010000
END:DAYLIGHT
BEGIN:STANDARD
TZOFFSETFROM:+0300
TZOFFSETTO:+0200
TZNAME:EET
DTSTART:20191027T010000
END:STANDARD
BEGIN:DAYLIGHT
TZOFFSETFROM:+0200
TZOFFSETTO:+0300
TZNAME:EEST
DTSTART:20200329T010000
END:DAYLIGHT
BEGIN:STANDARD
TZOFFSETFROM:+0300
TZOFFSETTO:+0200
TZNAME:EET
DTSTART:20201025T010000
END:STANDARD
BEGIN:DAYLIGHT
TZOFFSETFROM:+0200
TZOFFSETTO:+0300
TZNAME:EEST
DTSTART:20210328T010000
END:DAYLIGHT
BEGIN:STANDARD
TZOFFSETFROM:+0300
TZOFFSETTO:+0200
TZNAME:EET
DTSTART:20211031T010000
END:STANDARD
END:VTIMEZONE
BEGIN:VEVENT
DTSTART;VALUE=DATE:20200202
DTEND;VALUE=DATE:20200203
DTSTAMP:20260421T164949
CREATED:20200202T052532Z
LAST-MODIFIED:20240531T104250Z
UID:63-1580601600-1580687999@pezoporoihalandriou.gr
SUMMARY:Κυριακή 2 Φεβρουαρίου 2020: Πεζοπορία και επίσκεψη στο Σπήλαιο της Παιανίας
DESCRIPTION:Το σπήλαιο ανακαλύφθηκε τυχαία το 1926 και χαρτογραφήθηκε το 1954 από τους Ιωάννης και Άννα Πετροχείλου. Η σημερινή τεχνητή είσοδος\, μήκους 17 μέτρων\, ανοίχθηκε τη δεκαετία του 1960 για τη διευκόλυνση των επισκεπτών. \nΤο σπήλαιο αποτελείται από μία αίθουσα διαστάσεων περίπου 60 επί 60 μέτρων\, η οποία χωρίζεται εσωτερικά με κολώνες και πέτρινα παραπετάσματα. Το χαμηλότερο σημείο της αίθουσας βρίσκεται στα ανατολικά\, σε υψόμετρο 504\,4 μέτρα και στο ψηλότερο στα δυτικά\, σε ύψος 525\,2 μέτρων. Το σπήλαιο χαρακτηρίζεται από την ύπαρξη κολώνων\, οι οποίες αποτελούν το κύριο διάκοσμό του από πλευράς όγκου.
URL:https://pezoporoihalandriou.gr/event/2-2-2020-pezoporia-kai-episkepsi-sto-spilaio-tis-paianias/
CATEGORIES:Εκδηλώσεις 2020,Πεζοπορικές διαδρομές
ATTACH;FMTTYPE=image/jpeg:https://pezoporoihalandriou.gr/evripidis/wp-content/uploads/2020/02/20200202_113140.jpg
END:VEVENT
BEGIN:VEVENT
DTSTART;VALUE=DATE:20200209
DTEND;VALUE=DATE:20200210
DTSTAMP:20260421T164949
CREATED:20200209T052929Z
LAST-MODIFIED:20240531T104143Z
UID:3615-1581206400-1581292799@pezoporoihalandriou.gr
SUMMARY:Κυριακή 9 Φεβρουαρίου 2020: Εκδρομή Πεζοπορία Ιπποκράτειος Πολιτεία - Βασιλικά Κτήματα
DESCRIPTION:.Περιηγηθήκαμε στα βασιλικά κτήματα και επιστρέψουμε στο εκκλησάκι της Αγίας Τριάδας κάνοντας μια πολύ όμορφη διαδρομή ~3\,5 χλμ.
URL:https://pezoporoihalandriou.gr/event/kyriaki-9-2-ekdromi-pezoporia-ippokrateios-politeia-vasilika-ktimata/
CATEGORIES:Εκδηλώσεις 2020,Πεζοπορικές διαδρομές
ATTACH;FMTTYPE=image/jpeg:https://pezoporoihalandriou.gr/evripidis/wp-content/uploads/2020/02/20200209_135646.jpg
END:VEVENT
BEGIN:VEVENT
DTSTART;VALUE=DATE:20200216
DTEND;VALUE=DATE:20200217
DTSTAMP:20260421T164949
CREATED:20200216T053348Z
LAST-MODIFIED:20240531T104041Z
UID:65-1581811200-1581897599@pezoporoihalandriou.gr
SUMMARY:Κυριακή 16 Φεβρουαρίου 2020: Πεζοπορική Εκδρομή στη Λίμνη Μαραθώνα
DESCRIPTION:Πρώτος μας σταθμός το μοναστήρι της Μονής Παντοκράτορος στο Νταού Πεντέλης\, όπου περιηγηθήκαμε στο ιστορικό αυτό μοναστήρι. Στη συνέχεια επισκεφθήκαμε τον πύργο Οινόης στο φράγμα της λίμνης του Μαραθώνα και πεζοπορήσαμε σε ένα όμορφο μονοπάτι (από το Μαραθώνα προς το φράγμα και επιστροφή) 7\,3 χλμ . Πρόκειται για ένα βατό μονοπάτι με τρεχούμενα νερά και πλατάνια. Επίσης\, επισκεφτήκαμε το Μουσείο της ΕΥΔΑΠ και ενημερωθήκαμε για την ιστορία της κατασκευής του φράγματος. Κλείσαμε την εκδρομή μας με ένα όμορφο πικ νικ στην λίμνη Μαραθώνα.
URL:https://pezoporoihalandriou.gr/event/kyriaki-16-2-pezoporiki-ekdromi-sti-limni-marathona/
CATEGORIES:Εκδηλώσεις 2020,Πεζοπορικές διαδρομές
ATTACH;FMTTYPE=image/jpeg:https://pezoporoihalandriou.gr/evripidis/wp-content/uploads/2020/02/20200216_122119.jpg
END:VEVENT
END:VCALENDAR