
BEGIN:VCALENDAR
VERSION:2.0
PRODID:-//Πεζοπόροι Χαλανδρίου &quot;Ευριπίδης&quot; - ECPv6.15.20//NONSGML v1.0//EN
CALSCALE:GREGORIAN
METHOD:PUBLISH
X-ORIGINAL-URL:https://pezoporoihalandriou.gr
X-WR-CALDESC:Πεζοπόροι Χαλανδρίου &quot;Ευριπίδης&quot; - Εκδηλώσεις
REFRESH-INTERVAL;VALUE=DURATION:PT1H
X-Robots-Tag:noindex
X-PUBLISHED-TTL:PT1H
BEGIN:VTIMEZONE
TZID:Europe/Athens
BEGIN:DAYLIGHT
TZOFFSETFROM:+0200
TZOFFSETTO:+0300
TZNAME:EEST
DTSTART:20190331T010000
END:DAYLIGHT
BEGIN:STANDARD
TZOFFSETFROM:+0300
TZOFFSETTO:+0200
TZNAME:EET
DTSTART:20191027T010000
END:STANDARD
BEGIN:DAYLIGHT
TZOFFSETFROM:+0200
TZOFFSETTO:+0300
TZNAME:EEST
DTSTART:20200329T010000
END:DAYLIGHT
BEGIN:STANDARD
TZOFFSETFROM:+0300
TZOFFSETTO:+0200
TZNAME:EET
DTSTART:20201025T010000
END:STANDARD
BEGIN:DAYLIGHT
TZOFFSETFROM:+0200
TZOFFSETTO:+0300
TZNAME:EEST
DTSTART:20210328T010000
END:DAYLIGHT
BEGIN:STANDARD
TZOFFSETFROM:+0300
TZOFFSETTO:+0200
TZNAME:EET
DTSTART:20211031T010000
END:STANDARD
END:VTIMEZONE
BEGIN:VEVENT
DTSTART;VALUE=DATE:20200315
DTEND;VALUE=DATE:20200316
DTSTAMP:20260421T152750
CREATED:20200315T055742Z
LAST-MODIFIED:20240524T144804Z
UID:3626-1584230400-1584316799@pezoporoihalandriou.gr
SUMMARY:Κυριακή 15 Μαρτίου 2020: Πεζοπορία στο Κτήμα Συγγρού
DESCRIPTION:Πρόκειται για ένα πάρκο έκταση 950 περίπου στρεμμάτων\, στο μεγαλύτερο ποσοστό τους καλυμμένα με χαλέπιο Πεύκη\, ενώ αποτελεί το μοναδικό εναπομείναν φυσικό δάσος της ευρύτερης περιοχής και ολοκλήρου του λεκανοπεδίου Αττικής. \nΕίναι ένα πολύ μεγάλο άλσος με πολλά πεύκα και άλλα δέντρα\, και πολλά μονοπάτια και δρομάκια για περιπάτους και αθλητικές δραστηριότητες. Περπατήσαμε μία όμορφη διαδρομή μέσα στο Δασόκτημα\, επισκεφτήκαμε τον Πύργο Ανδρέα Συγγρού\, ένα αρχιτεκτόνημα του Ερνέστου Τσίλλερ που κατασκευάστηκε από τον Ανδρέα Συγγρό ως εξοχική έπαυλη και χρονολογείται τον 19ο αιώνα. Επισκεφτήκαμε το Μουσείο Μελισσοκομίας και το παρεκκλήσιο του Αγίου Ανδρέα\, όπου βρίσκεται παραπλεύρως του Πύργου Ανδρέα Συγγρού και αποτελεί την μοναδική ορθόδοξη εκκλησία της Ελλάδας που έχει γοτθικό ρυθμό. Θαυμάσαμε τις γραφικές λίμνες που αποτελούν το υγρό στοιχείο του Δασοκτήματος και ολοκληρώνει την εικόνα του. \nΉταν μια υπέροχη μέρα για όλη την παρέα…
URL:https://pezoporoihalandriou.gr/event/kyriaki-15-martiou-2020-pezoporia-sto-ktima-syggroy/
CATEGORIES:Εκδηλώσεις 2020,Πεζοπορικές διαδρομές
END:VEVENT
END:VCALENDAR