
BEGIN:VCALENDAR
VERSION:2.0
PRODID:-//Πεζοπόροι Χαλανδρίου &quot;Ευριπίδης&quot; - ECPv6.15.20//NONSGML v1.0//EN
CALSCALE:GREGORIAN
METHOD:PUBLISH
X-ORIGINAL-URL:https://pezoporoihalandriou.gr
X-WR-CALDESC:Πεζοπόροι Χαλανδρίου &quot;Ευριπίδης&quot; - Εκδηλώσεις
REFRESH-INTERVAL;VALUE=DURATION:PT1H
X-Robots-Tag:noindex
X-PUBLISHED-TTL:PT1H
BEGIN:VTIMEZONE
TZID:Europe/Athens
BEGIN:DAYLIGHT
TZOFFSETFROM:+0200
TZOFFSETTO:+0300
TZNAME:EEST
DTSTART:20190331T010000
END:DAYLIGHT
BEGIN:STANDARD
TZOFFSETFROM:+0300
TZOFFSETTO:+0200
TZNAME:EET
DTSTART:20191027T010000
END:STANDARD
BEGIN:DAYLIGHT
TZOFFSETFROM:+0200
TZOFFSETTO:+0300
TZNAME:EEST
DTSTART:20200329T010000
END:DAYLIGHT
BEGIN:STANDARD
TZOFFSETFROM:+0300
TZOFFSETTO:+0200
TZNAME:EET
DTSTART:20201025T010000
END:STANDARD
BEGIN:DAYLIGHT
TZOFFSETFROM:+0200
TZOFFSETTO:+0300
TZNAME:EEST
DTSTART:20210328T010000
END:DAYLIGHT
BEGIN:STANDARD
TZOFFSETFROM:+0300
TZOFFSETTO:+0200
TZNAME:EET
DTSTART:20211031T010000
END:STANDARD
END:VTIMEZONE
BEGIN:VEVENT
DTSTART;VALUE=DATE:20200607
DTEND;VALUE=DATE:20200608
DTSTAMP:20260421T101351
CREATED:20200607T044640Z
LAST-MODIFIED:20240531T103756Z
UID:3617-1591488000-1591574399@pezoporoihalandriou.gr
SUMMARY:Κυριακή 7 Ιουνίου 2020: Πεζοπορία στους Καταρράκτες της Ραπεντώσας
DESCRIPTION:Η πεζοπορία μας ξεκίνησε από το Φράγμα της Ραπεντώσας στο πανέμορφο φαράγγι με τελικό προορισμό τους Καταρράκτες Ραπεντώσας. Μια εκπληκτική διαδρομή 5χλμ.\, μέσα από το ποτάμι\, μέχρι τα κρυστάλλινα νερά του καταρράκτη. Κάποιοι από τους συμμετέχοντες κολύμπησαν στα δροσερά νερά της λίμνης.
URL:https://pezoporoihalandriou.gr/event/kyriaki-7-6-pezoporia-stous-katarraktes-tis-rapentosas/
CATEGORIES:Εκδηλώσεις 2020,Πεζοπορικές διαδρομές
ATTACH;FMTTYPE=image/jpeg:https://pezoporoihalandriou.gr/evripidis/wp-content/uploads/2020/06/IMG_20200520_174131.jpg
END:VEVENT
BEGIN:VEVENT
DTSTART;TZID=Europe/Athens:20200620T000000
DTEND;TZID=Europe/Athens:20200621T000000
DTSTAMP:20260421T101351
CREATED:20200621T045512Z
LAST-MODIFIED:20240524T145136Z
UID:70-1592611200-1592697600@pezoporoihalandriou.gr
SUMMARY:Σαββατοκύριακο 20 & 21 Ιουνίου 2020: Rafting στον ποταμό Λούσιο και πεζοπορία στον Λάδωνα
DESCRIPTION:Ανακάλυψαν τις κρυφές ομορφιές της Λίμνης Λάδωνα και γνώρισαν το ζεστό καλωσόρισμα των κατοίκων της Μυγδαλιάς Γορτυνίας\, ενός παραδοσιακού οικισμού που συναντάς τον αυθεντικό βουνίσιο τρόπο ζωής. \nΠεζοπόρησαν σε μονοπάτια εξαιρετικού φυσικού κάλλους γύρω από την Λίμνη Λάδωνα. Μια περιοχή εκπληκτικής ομορφιάς όπου έχει ανακηρυχθεί οικολογικό πάρκο. \nΙδιαίτερα θερμή ήταν η υποδοχή του Αντιπροέδρου της Βουλής και Βουλευτή Αρκαδίας κ. Οδυσσέα Κωνσταντινόπουλου\, ο οποίος έλκει την καταγωγή του από την Μυγδαλιά. Ο κ. Κωνσταντινόπουλος ξενάγησε τους Πεζοπόρους στις ομορφιές του τόπου του και ο σύλλογος τον ευχαριστεί για την απλόχερη και ζεστή φιλοξενία που τους προσέφερε. \nΤο Σάββατο οι μικροί και μεγάλοι πεζοπόροι έμαθαν για την παρασκευή μελιού από τους μελισσοκόμους Χρήστο και Μηνά Μαραγκό\, και περιηγήθηκαν στα εκπληκτικά μονοπάτια γύρω από την Λίμνη Λάδωνα αγναντεύοντας ένα φανταστικό ηλιοβασίλεμα. Έφαγαν στην μοναδική τοπική ταβέρνα του χωριού φρέσκα προϊόντα της περιοχής\, διασκέδασαν\, χόρεψαν και έζησαν μια αλησμόνητη εμπειρία διανυκτέρευσης σε στυλ κάμπινγκ. \nΤην Κυριακή εξερεύνησαν το πανέμορφο χωριό της Δημητσάνας και η περιπέτεια ολοκληρώθηκε με rafting στον ποταμό Λούσιο. Κωπηλάτησαν με την επαγγελματική βοήθεια της Trekking Hellas στα κρυστάλλινα νερά του ποταμού\, σε διαδρομές με πυκνή βλάστηση\, κατακόρυφα βράχια\, καταρράκτες και γεφύρια\, κολύμπησαν και ανακάλυψαν τα κρυμμένα θαύματα του Λούσιου.
URL:https://pezoporoihalandriou.gr/event/savvatokyriako-20-21-iouniou-rafting-ston-potamo-loysio-kai-pezoporia-ston-ladona/
CATEGORIES:Εκδηλώσεις 2020,Πεζοπορικές διαδρομές
END:VEVENT
BEGIN:VEVENT
DTSTART;VALUE=DATE:20200628
DTEND;VALUE=DATE:20200629
DTSTAMP:20260421T101351
CREATED:20200628T051406Z
LAST-MODIFIED:20240524T145220Z
UID:3618-1593302400-1593388799@pezoporoihalandriou.gr
SUMMARY:Κυριακή 28 Ιουνίου 2020: Πεζοπορία στον αρχαιολογικό χώρο του Ηραίου και την Λίμνη Βουλιαγμένης Λουτρακίου
DESCRIPTION:Περιηγηθήκαμε στα ερείπια του αρχαίου ναού που ήταν αφιερωμένος στην Θεά Ήρα\, στο εκκλησάκι του Αγίου Νικολάου και στον Φάρο Μελαγκάβι που δεσπόζει στο ακρωτήριο του Ηραίου\, τον μεγαλύτερο φάρο του κορινθιακού κόλπου ο οποίος λειτούργησε για πρώτη φορά το 1897 και χωρίζει τη βόρεια είσοδο του όρμου της Κορίνθου από τον Κόλπο των Αλκυονίδων. \nΣτο τέλος της πεζοπορίας οι συμμετέχοντες έκαναν μπάνιο στην πανέμορφη Λιμνοθάλασσα\, στις όχθες της οποίας καταλήγουν τα Γεράνεια Όρη. Τα γαλαζοπράσινα νερά της μαζί με το φυσικό πευκοδάσος της περιοχής την κάνουν ένα παραδεισένιο τοπίο με γαλήνια ατμόσφαιρα. Η εκδρομή ολοκληρώθηκε με φαγητό και διασκέδαση στις πολλές ταβέρνες της Λίμνης.
URL:https://pezoporoihalandriou.gr/event/kyriaki-28-iouniou-pezoporia-ston-arxaiologiko-xoro-tou-iraiou-kai-tin-limni-vouliagmenis-loutrakiou/
CATEGORIES:Εκδηλώσεις 2020,Πεζοπορικές διαδρομές
END:VEVENT
END:VCALENDAR