
BEGIN:VCALENDAR
VERSION:2.0
PRODID:-//Πεζοπόροι Χαλανδρίου &quot;Ευριπίδης&quot; - ECPv6.15.20//NONSGML v1.0//EN
CALSCALE:GREGORIAN
METHOD:PUBLISH
X-WR-CALNAME:Πεζοπόροι Χαλανδρίου &quot;Ευριπίδης&quot;
X-ORIGINAL-URL:https://pezoporoihalandriou.gr
X-WR-CALDESC:Πεζοπόροι Χαλανδρίου &quot;Ευριπίδης&quot; - Εκδηλώσεις
REFRESH-INTERVAL;VALUE=DURATION:PT1H
X-Robots-Tag:noindex
X-PUBLISHED-TTL:PT1H
BEGIN:VTIMEZONE
TZID:Europe/Athens
BEGIN:DAYLIGHT
TZOFFSETFROM:+0200
TZOFFSETTO:+0300
TZNAME:EEST
DTSTART:20190331T010000
END:DAYLIGHT
BEGIN:STANDARD
TZOFFSETFROM:+0300
TZOFFSETTO:+0200
TZNAME:EET
DTSTART:20191027T010000
END:STANDARD
BEGIN:DAYLIGHT
TZOFFSETFROM:+0200
TZOFFSETTO:+0300
TZNAME:EEST
DTSTART:20200329T010000
END:DAYLIGHT
BEGIN:STANDARD
TZOFFSETFROM:+0300
TZOFFSETTO:+0200
TZNAME:EET
DTSTART:20201025T010000
END:STANDARD
BEGIN:DAYLIGHT
TZOFFSETFROM:+0200
TZOFFSETTO:+0300
TZNAME:EEST
DTSTART:20210328T010000
END:DAYLIGHT
BEGIN:STANDARD
TZOFFSETFROM:+0300
TZOFFSETTO:+0200
TZNAME:EET
DTSTART:20211031T010000
END:STANDARD
END:VTIMEZONE
BEGIN:VEVENT
DTSTART;VALUE=DATE:20200712
DTEND;VALUE=DATE:20200713
DTSTAMP:20260421T081853
CREATED:20200712T051731Z
LAST-MODIFIED:20200712T051731Z
UID:3619-1594512000-1594598399@pezoporoihalandriou.gr
SUMMARY:Κυριακή 12 Ιουλίου 2020: Νυχτερινή πεζοπορία στην Νέα Μάκρη
DESCRIPTION:Κυριακή 12 Ιουλίου 2020\, στην Νέα Μάκρη με νυχτερινή πεζοπορία δίπλα στο κύμα της θάλασσας από την Αγία Κυριακή μέχρι το λιμάνι του τύμβου Μαραθώνα.
URL:https://pezoporoihalandriou.gr/event/kyriaki-12-iouliou-2020-stin-nea-makri-me-nyxterini-pezoporia/
CATEGORIES:Εκδηλώσεις 2020,Πεζοπορικές διαδρομές
END:VEVENT
BEGIN:VEVENT
DTSTART;VALUE=DATE:20200715
DTEND;VALUE=DATE:20200716
DTSTAMP:20260421T081853
CREATED:20200715T051012Z
LAST-MODIFIED:20240524T145310Z
UID:3629-1594771200-1594857599@pezoporoihalandriou.gr
SUMMARY:Τετάρτη 15 Ιουλίου 2020: Καταρράκτες Βαλανάρι στο Ντράφι Πεντέλης
DESCRIPTION:Οι Πεζοπόροι Χαλανδρίου «Ο Ευριπίδης» πεζοπορήσαμε στον εκπληκτικό Καταρράκτη Βαλάναρη στο Ντράφι Πεντέλης την Τετάρτη 15 Ιουλίου το απόγευμα και απολαύσαμε τα κρυστάλλινα νερά του.
URL:https://pezoporoihalandriou.gr/event/tetarti-15-iouliou-2020-katarraktes-valanari-sto-drafi-pentelis/
CATEGORIES:Εκδηλώσεις 2020,Πεζοπορικές διαδρομές
END:VEVENT
BEGIN:VEVENT
DTSTART;VALUE=DATE:20200719
DTEND;VALUE=DATE:20200720
DTSTAMP:20260421T081853
CREATED:20200719T051310Z
LAST-MODIFIED:20240524T145338Z
UID:3633-1595116800-1595203199@pezoporoihalandriou.gr
SUMMARY:Κυριακή 19 Ιουλίου 2020: Νυχτερινή πεζοπορία στην Βραυρώνα
DESCRIPTION:Οι Πεζοπόροι Χαλανδρίου «Ο Ευριπίδης» απολαύσαμε έναν  όμορφο απογευματινό περίπατο στην Βραυρώνα.  Περπατήσαμε 6 χιλιόμετρα πλάι στην θάλασσα από χωματόδρομο μέχρι το Αρχαιολογικό Μουσείο Βραυρώνας και επιστρέψαμε για πικ-νικ και βραδινό μπάνιο στην παραλία της Χαμολιάς.
URL:https://pezoporoihalandriou.gr/event/kyriaki-19-iouliou-2020-nyxterini-pezoporia-stin-vravrona/
CATEGORIES:Εκδηλώσεις 2020,Πεζοπορικές διαδρομές
END:VEVENT
END:VCALENDAR