
BEGIN:VCALENDAR
VERSION:2.0
PRODID:-//Πεζοπόροι Χαλανδρίου &quot;Ευριπίδης&quot; - ECPv6.15.20//NONSGML v1.0//EN
CALSCALE:GREGORIAN
METHOD:PUBLISH
X-WR-CALNAME:Πεζοπόροι Χαλανδρίου &quot;Ευριπίδης&quot;
X-ORIGINAL-URL:https://pezoporoihalandriou.gr
X-WR-CALDESC:Πεζοπόροι Χαλανδρίου &quot;Ευριπίδης&quot; - Εκδηλώσεις
REFRESH-INTERVAL;VALUE=DURATION:PT1H
X-Robots-Tag:noindex
X-PUBLISHED-TTL:PT1H
BEGIN:VTIMEZONE
TZID:Europe/Athens
BEGIN:DAYLIGHT
TZOFFSETFROM:+0200
TZOFFSETTO:+0300
TZNAME:EEST
DTSTART:20190331T010000
END:DAYLIGHT
BEGIN:STANDARD
TZOFFSETFROM:+0300
TZOFFSETTO:+0200
TZNAME:EET
DTSTART:20191027T010000
END:STANDARD
BEGIN:DAYLIGHT
TZOFFSETFROM:+0200
TZOFFSETTO:+0300
TZNAME:EEST
DTSTART:20200329T010000
END:DAYLIGHT
BEGIN:STANDARD
TZOFFSETFROM:+0300
TZOFFSETTO:+0200
TZNAME:EET
DTSTART:20201025T010000
END:STANDARD
BEGIN:DAYLIGHT
TZOFFSETFROM:+0200
TZOFFSETTO:+0300
TZNAME:EEST
DTSTART:20210328T010000
END:DAYLIGHT
BEGIN:STANDARD
TZOFFSETFROM:+0300
TZOFFSETTO:+0200
TZNAME:EET
DTSTART:20211031T010000
END:STANDARD
END:VTIMEZONE
BEGIN:VEVENT
DTSTART;VALUE=DATE:20200830
DTEND;VALUE=DATE:20200831
DTSTAMP:20260421T081805
CREATED:20200830T052927Z
LAST-MODIFIED:20240524T150659Z
UID:73-1598745600-1598831999@pezoporoihalandriou.gr
SUMMARY:Κυριακή 30 Αυγούστου 2020: Εκδρομή στο Ναύπλιο
DESCRIPTION:Κάναμε μπάνιο στην φανταστική παραλία του Καραθώνα\, περιηγηθήκαμε στις πολυάριθμες πλατείες του κοσμοπολίτικου Ναυπλίου\, ανεβήκαμε στο εντυπωσιακό Κάστρο Παλαμήδι στην κορυφή του λόφου με τα 999 σκαλοπάτια\, θαυμάσαμε το  Φρούριο Μπούρτζι και περπατήσαμε στα γραφικά σοκάκια και  χαλαρώσαμε στα αμέτρητα γραφικά μαγαζιά για ένα καφέ ή για φαγητό.
URL:https://pezoporoihalandriou.gr/event/kyriaki-30-avgoystou-ekdromi-sto-nayplio/
CATEGORIES:Εκδηλώσεις 2020,Πεζοπορικές διαδρομές
END:VEVENT
END:VCALENDAR