
BEGIN:VCALENDAR
VERSION:2.0
PRODID:-//Πεζοπόροι Χαλανδρίου &quot;Ευριπίδης&quot; - ECPv6.15.20//NONSGML v1.0//EN
CALSCALE:GREGORIAN
METHOD:PUBLISH
X-WR-CALNAME:Πεζοπόροι Χαλανδρίου &quot;Ευριπίδης&quot;
X-ORIGINAL-URL:https://pezoporoihalandriou.gr
X-WR-CALDESC:Πεζοπόροι Χαλανδρίου &quot;Ευριπίδης&quot; - Εκδηλώσεις
REFRESH-INTERVAL;VALUE=DURATION:PT1H
X-Robots-Tag:noindex
X-PUBLISHED-TTL:PT1H
BEGIN:VTIMEZONE
TZID:Europe/Athens
BEGIN:DAYLIGHT
TZOFFSETFROM:+0200
TZOFFSETTO:+0300
TZNAME:EEST
DTSTART:20190331T010000
END:DAYLIGHT
BEGIN:STANDARD
TZOFFSETFROM:+0300
TZOFFSETTO:+0200
TZNAME:EET
DTSTART:20191027T010000
END:STANDARD
BEGIN:DAYLIGHT
TZOFFSETFROM:+0200
TZOFFSETTO:+0300
TZNAME:EEST
DTSTART:20200329T010000
END:DAYLIGHT
BEGIN:STANDARD
TZOFFSETFROM:+0300
TZOFFSETTO:+0200
TZNAME:EET
DTSTART:20201025T010000
END:STANDARD
BEGIN:DAYLIGHT
TZOFFSETFROM:+0200
TZOFFSETTO:+0300
TZNAME:EEST
DTSTART:20210328T010000
END:DAYLIGHT
BEGIN:STANDARD
TZOFFSETFROM:+0300
TZOFFSETTO:+0200
TZNAME:EET
DTSTART:20211031T010000
END:STANDARD
END:VTIMEZONE
BEGIN:VEVENT
DTSTART;VALUE=DATE:20200902
DTEND;VALUE=DATE:20200903
DTSTAMP:20260421T042650
CREATED:20200902T053111Z
LAST-MODIFIED:20240531T095902Z
UID:74-1599004800-1599091199@pezoporoihalandriou.gr
SUMMARY:Τετάρτη 2 Σεπτεμβρίου 2020: Βραδινή Πεζοπορία με Πανσέληνο
DESCRIPTION:Ξεκινήσαμε στις 19:00 από το ΚΕΠ Χαλανδρίου\, στη κεντρική πλατεία\, και κατευθυνθήκαμε προς την Φιλοθέη. Πεζοπορήσαμε θαυμάζοντας παράλληλα τη δύση του ήλιου και την πανσέληνο του φεγγαριού. \nΗ συνολική απόσταση της πεζοπορίας είναι 9 χλμ\, εκ των οποίων τα 2 χλμ έχουν ανηφορική κλίση και ένα μικρό βαθμό δυσκολίας.
URL:https://pezoporoihalandriou.gr/event/tetarti-2-septemvriou-vradini-pezoporia-me-panselino/
CATEGORIES:Εκδηλώσεις 2020,Πεζοπορικές διαδρομές
END:VEVENT
BEGIN:VEVENT
DTSTART;VALUE=DATE:20200927
DTEND;VALUE=DATE:20200928
DTSTAMP:20260421T042650
CREATED:20200927T052003Z
LAST-MODIFIED:20240915T204616Z
UID:3634-1601164800-1601251199@pezoporoihalandriou.gr
SUMMARY:Κυριακή 27 Σεπτεμβρίου 2020: Πεζοπορία στην Δίρφη
DESCRIPTION:Η οροσειρά της Δίρφυς αποτελεί το υψηλότερο νησιωτικό βουνό\, με την κορυφή Δίρφη να φτάνει στα 1170 μέτρα. Αρχικός προορισμός μας η Στενή Ευβοίας\, ένα μικρό ήσυχο χωριό στους πρόποδες του όρους Δίρφυς. Περπατήσαμε σε ένα όμορφο και πυκνό ελατόδασος\, το δάσος της Δίρφυς\, το οποίο σε οδηγεί στο όμορφο καταφύγιο “Μιχάλης Νικολάου”. Στο τέλος ήπιαμε καφέ και φάγαμε στις γραφικές ταβέρνες της Στενής. \n 
URL:https://pezoporoihalandriou.gr/event/kyriaki-27-septemvriou-2020-pezoporia-stin-dirfi/
CATEGORIES:Εκδηλώσεις 2020,Πεζοπορικές διαδρομές
ATTACH;FMTTYPE=image/jpeg:https://pezoporoihalandriou.gr/evripidis/wp-content/uploads/2020/09/20191025_134417.jpg
END:VEVENT
END:VCALENDAR