
BEGIN:VCALENDAR
VERSION:2.0
PRODID:-//Πεζοπόροι Χαλανδρίου &quot;Ευριπίδης&quot; - ECPv6.15.17.1//NONSGML v1.0//EN
CALSCALE:GREGORIAN
METHOD:PUBLISH
X-WR-CALNAME:Πεζοπόροι Χαλανδρίου &quot;Ευριπίδης&quot;
X-ORIGINAL-URL:https://pezoporoihalandriou.gr
X-WR-CALDESC:Πεζοπόροι Χαλανδρίου &quot;Ευριπίδης&quot; - Εκδηλώσεις
REFRESH-INTERVAL;VALUE=DURATION:PT1H
X-Robots-Tag:noindex
X-PUBLISHED-TTL:PT1H
BEGIN:VTIMEZONE
TZID:Europe/Athens
BEGIN:DAYLIGHT
TZOFFSETFROM:+0200
TZOFFSETTO:+0300
TZNAME:EEST
DTSTART:20200329T010000
END:DAYLIGHT
BEGIN:STANDARD
TZOFFSETFROM:+0300
TZOFFSETTO:+0200
TZNAME:EET
DTSTART:20201025T010000
END:STANDARD
BEGIN:DAYLIGHT
TZOFFSETFROM:+0200
TZOFFSETTO:+0300
TZNAME:EEST
DTSTART:20210328T010000
END:DAYLIGHT
BEGIN:STANDARD
TZOFFSETFROM:+0300
TZOFFSETTO:+0200
TZNAME:EET
DTSTART:20211031T010000
END:STANDARD
BEGIN:DAYLIGHT
TZOFFSETFROM:+0200
TZOFFSETTO:+0300
TZNAME:EEST
DTSTART:20220327T010000
END:DAYLIGHT
BEGIN:STANDARD
TZOFFSETFROM:+0300
TZOFFSETTO:+0200
TZNAME:EET
DTSTART:20221030T010000
END:STANDARD
END:VTIMEZONE
BEGIN:VEVENT
DTSTART;VALUE=DATE:20210509
DTEND;VALUE=DATE:20210510
DTSTAMP:20260420T105629
CREATED:20210509T063813Z
LAST-MODIFIED:20240531T104952Z
UID:78-1620518400-1620604799@pezoporoihalandriou.gr
SUMMARY:Κυριακή 9 Μαΐου 2021: Πεζοπορία στους Καταρράκτες της Ραπεντώσας
DESCRIPTION:Πρόκειται για μια εκπληκτική διαδρομή μέσα από το ποτάμι\, μέχρι τα κρυστάλλινα νερά του καταρράκτη. Όσοι συμμετέχοντες επιθυμούν\, μπορούν να κολυμπήσουν στα δροσερά νερά του καταρράκτη. Συνολική διαδρομή 9 χλμ. και βαθμός δυσκολίας 1.
URL:https://pezoporoihalandriou.gr/event/kyriaki-9-5-pezoporia-stous-katarraktes-tis-rapentosas/
CATEGORIES:Εκδηλώσεις 2021,Πεζοπορικές διαδρομές
END:VEVENT
BEGIN:VEVENT
DTSTART;TZID=Europe/Athens:20210516T000000
DTEND;TZID=Europe/Athens:20210516T000000
DTSTAMP:20260420T105629
CREATED:20210516T064814Z
LAST-MODIFIED:20210516T064814Z
UID:3631-1621123200-1621123200@pezoporoihalandriou.gr
SUMMARY:Κυριακή 16 Μαΐου 2021: Πεζοπορία στο Φαράγγι του Βουραϊκού & Επίσκεψη στην Ιερά Μονή του Μέγα Σπηλαίου
DESCRIPTION:Η εκδρομή της ομάδας θα ξεκινήσει με επίσκεψη στην Ιερά Μόνη του Μέγα Σπηλαίου. Η Μονή\, η οποία θεωρείται η αρχαιότερη στην Ελλάδα\, κτίστηκε το 362 μ.Χ. από τους Θεσσαλονικείς αδερφούς μοναχούς\, Συμεών και Θεόδωρο. Είναι κτισμένη στο άνοιγμα ενός μεγάλου φυσικού σπηλαίου πάνω από την απότομη χαράδρα του Βουραϊκού ποταμού\, σε υψόμετρο 899 μέτρων\, απόλυτα εναρμονισμένη με το άγριο και εντυπωσιακό τοπίο της περιοχής. \nΣτη συνέχεια η ομάδα θα μεταβεί στο χωριό Κάτω Ζαχλωρού όπου και θα ξεκινήσει πεζοπορία στο μονοπάτι του Οδοντωτού Σιδηροδρόμου προς το Διακοπτό.  Συνολική διαδρομή μήκους 12 χλμ. και βαθμός δυσκολίας 1. \nΣτο Διακοπτό οι συμμετέχοντες θα έχουν ελεύθερο χρόνο για βόλτα\, φαγητό και καφέ.
URL:https://pezoporoihalandriou.gr/event/kyriaki-16-5-pezoporia-sto-faraggi-tou-vouraikoy-episkepsi-stin-iera-moni-tou-mega-spilaiou/
CATEGORIES:Εκδηλώσεις 2021,Πεζοπορικές διαδρομές
END:VEVENT
END:VCALENDAR