
BEGIN:VCALENDAR
VERSION:2.0
PRODID:-//Πεζοπόροι Χαλανδρίου &quot;Ευριπίδης&quot; - ECPv6.15.17.1//NONSGML v1.0//EN
CALSCALE:GREGORIAN
METHOD:PUBLISH
X-ORIGINAL-URL:https://pezoporoihalandriou.gr
X-WR-CALDESC:Πεζοπόροι Χαλανδρίου &quot;Ευριπίδης&quot; - Εκδηλώσεις
REFRESH-INTERVAL;VALUE=DURATION:PT1H
X-Robots-Tag:noindex
X-PUBLISHED-TTL:PT1H
BEGIN:VTIMEZONE
TZID:Europe/Athens
BEGIN:DAYLIGHT
TZOFFSETFROM:+0200
TZOFFSETTO:+0300
TZNAME:EEST
DTSTART:20200329T010000
END:DAYLIGHT
BEGIN:STANDARD
TZOFFSETFROM:+0300
TZOFFSETTO:+0200
TZNAME:EET
DTSTART:20201025T010000
END:STANDARD
BEGIN:DAYLIGHT
TZOFFSETFROM:+0200
TZOFFSETTO:+0300
TZNAME:EEST
DTSTART:20210328T010000
END:DAYLIGHT
BEGIN:STANDARD
TZOFFSETFROM:+0300
TZOFFSETTO:+0200
TZNAME:EET
DTSTART:20211031T010000
END:STANDARD
BEGIN:DAYLIGHT
TZOFFSETFROM:+0200
TZOFFSETTO:+0300
TZNAME:EEST
DTSTART:20220327T010000
END:DAYLIGHT
BEGIN:STANDARD
TZOFFSETFROM:+0300
TZOFFSETTO:+0200
TZNAME:EET
DTSTART:20221030T010000
END:STANDARD
END:VTIMEZONE
BEGIN:VEVENT
DTSTART;VALUE=DATE:20210619
DTEND;VALUE=DATE:20210622
DTSTAMP:20260420T091743
CREATED:20210621T065346Z
LAST-MODIFIED:20240723T114905Z
UID:82-1624060800-1624319999@pezoporoihalandriou.gr
SUMMARY:Κυριακή 19 & 21 Ιουνίου 2021: Τριήμερο Camping & Rafting στον ποταμό Λάδωνα
DESCRIPTION:Οι συμμετέχοντες θα μείνουν στο καταφύγιο στο βουνό ή εναλλακτικά θα στήσουν τις σκηνές τους σε φυλασσόμενο κάμπινγκ δίπλα στο ποτάμι. Το απόγευμα η ομάδα θα πεζοπορήσει στο παραρεμάτιο μονοπάτι\, μια εύκολη διαδρομή 6χλμ\, και στην συνέχεια θα ακολουθήσει μπάρμπεκιου\, γλέντι και χορός στο χώρο του κάμπινγκ δίπλα στο ποτάμι. \nΤην Κυριακή το πρωί θα πραγματοποιηθεί η κατάβαση rafting στον ποταμό Λάδωνα\, στα  νερά του οποίου κολυμπούσε η θεά Δήμητρα και στις όχθες του κυνηγούσε η θεά Άρτεμις. Η κατάβαση θα γίνει με ειδικές φουσκωτές βάρκες και επαγγελματίες οδηγούς όπου και θα παρέχουν όλο τον απαραίτητο εξοπλισμό. Πρόκειται για μια εύκολη και ιδανική διαδρομή για αρχάριους διάρκειας περίπου 2 ωρών με βαθμό δυσκολίας 1-2. Οι συμμετέχοντες θα κωπηλατήσουν μέσα σε ένα τούνελ από φυτά και δέντρα\, θα διασκεδάσουν και θα κολυμπήσουν στα κρυστάλλινα νερά του ποταμού. \nΤον υπόλοιπο ελεύθερο χρόνο οι συμμετέχοντες θα έχουν την δυνατότητα να κάνουν πεζοπορία ή διάφορες υπαίθριες δραστηριότητες που προσφέρει το κάμπινγκ (τοξοβολία\, αναρρίχηση\, κλπ.). Η διαμονή και το rafting είναι συνεργασία με το «Γή και Ύδωρ υπαίθριες δραστηριότητες».
URL:https://pezoporoihalandriou.gr/event/kyriaki-19-21-iouniou-triimero-camping-rafting-ston-potamo-ladona/
CATEGORIES:Εκδηλώσεις 2021,Πεζοπορικές διαδρομές
END:VEVENT
END:VCALENDAR