
BEGIN:VCALENDAR
VERSION:2.0
PRODID:-//Πεζοπόροι Χαλανδρίου &quot;Ευριπίδης&quot; - ECPv6.15.17.1//NONSGML v1.0//EN
CALSCALE:GREGORIAN
METHOD:PUBLISH
X-ORIGINAL-URL:https://pezoporoihalandriou.gr
X-WR-CALDESC:Πεζοπόροι Χαλανδρίου &quot;Ευριπίδης&quot; - Εκδηλώσεις
REFRESH-INTERVAL;VALUE=DURATION:PT1H
X-Robots-Tag:noindex
X-PUBLISHED-TTL:PT1H
BEGIN:VTIMEZONE
TZID:Europe/Athens
BEGIN:DAYLIGHT
TZOFFSETFROM:+0200
TZOFFSETTO:+0300
TZNAME:EEST
DTSTART:20200329T010000
END:DAYLIGHT
BEGIN:STANDARD
TZOFFSETFROM:+0300
TZOFFSETTO:+0200
TZNAME:EET
DTSTART:20201025T010000
END:STANDARD
BEGIN:DAYLIGHT
TZOFFSETFROM:+0200
TZOFFSETTO:+0300
TZNAME:EEST
DTSTART:20210328T010000
END:DAYLIGHT
BEGIN:STANDARD
TZOFFSETFROM:+0300
TZOFFSETTO:+0200
TZNAME:EET
DTSTART:20211031T010000
END:STANDARD
BEGIN:DAYLIGHT
TZOFFSETFROM:+0200
TZOFFSETTO:+0300
TZNAME:EEST
DTSTART:20220327T010000
END:DAYLIGHT
BEGIN:STANDARD
TZOFFSETFROM:+0300
TZOFFSETTO:+0200
TZNAME:EET
DTSTART:20221030T010000
END:STANDARD
END:VTIMEZONE
BEGIN:VEVENT
DTSTART;TZID=Europe/Athens:20210829T000000
DTEND;TZID=Europe/Athens:20210829T000000
DTSTAMP:20260420T055003
CREATED:20210829T055728Z
LAST-MODIFIED:20241115T134705Z
UID:3637-1630195200-1630195200@pezoporoihalandriou.gr
SUMMARY:Κυριακή 29 Αυγούστου 2021: Βόλτα και μπάνιο στο Αγκίστρι
DESCRIPTION:Είναι ένα πανέμορφο νησί με πράσινο περιβάλλον και καταγάλανα νερά. Είναι μικρό και ιδανικό για πεζοπορία και τους λάτρεις της περιπέτειας και των παράξενων διαδρομών. Θα περπατήσουμε στο όμορφο νησί και θα κάνουμε μπάνιο στα εξωτικά νερά.
URL:https://pezoporoihalandriou.gr/event/kyriaki-29-avgoystou-2021-volta-kai-banio-sto-agkistri/
CATEGORIES:Εκδηλώσεις 2021,Πεζοπορικές διαδρομές
END:VEVENT
END:VCALENDAR