
BEGIN:VCALENDAR
VERSION:2.0
PRODID:-//Πεζοπόροι Χαλανδρίου &quot;Ευριπίδης&quot; - ECPv6.15.17.1//NONSGML v1.0//EN
CALSCALE:GREGORIAN
METHOD:PUBLISH
X-ORIGINAL-URL:https://pezoporoihalandriou.gr
X-WR-CALDESC:Πεζοπόροι Χαλανδρίου &quot;Ευριπίδης&quot; - Εκδηλώσεις
REFRESH-INTERVAL;VALUE=DURATION:PT1H
X-Robots-Tag:noindex
X-PUBLISHED-TTL:PT1H
BEGIN:VTIMEZONE
TZID:Europe/Athens
BEGIN:DAYLIGHT
TZOFFSETFROM:+0200
TZOFFSETTO:+0300
TZNAME:EEST
DTSTART:20200329T010000
END:DAYLIGHT
BEGIN:STANDARD
TZOFFSETFROM:+0300
TZOFFSETTO:+0200
TZNAME:EET
DTSTART:20201025T010000
END:STANDARD
BEGIN:DAYLIGHT
TZOFFSETFROM:+0200
TZOFFSETTO:+0300
TZNAME:EEST
DTSTART:20210328T010000
END:DAYLIGHT
BEGIN:STANDARD
TZOFFSETFROM:+0300
TZOFFSETTO:+0200
TZNAME:EET
DTSTART:20211031T010000
END:STANDARD
BEGIN:DAYLIGHT
TZOFFSETFROM:+0200
TZOFFSETTO:+0300
TZNAME:EEST
DTSTART:20220327T010000
END:DAYLIGHT
BEGIN:STANDARD
TZOFFSETFROM:+0300
TZOFFSETTO:+0200
TZNAME:EET
DTSTART:20221030T010000
END:STANDARD
END:VTIMEZONE
BEGIN:VEVENT
DTSTART;VALUE=DATE:20210926
DTEND;VALUE=DATE:20210927
DTSTAMP:20260420T021243
CREATED:20210926T070541Z
LAST-MODIFIED:20250214T160953Z
UID:3639-1632614400-1632700799@pezoporoihalandriou.gr
SUMMARY:Κυριακή 26 Σεπτεμβρίου 2021: Πεζοπορία Βυτίνα – Ελάτη
DESCRIPTION:Πρόκειται για μια πανέμορφη διαδρομή\, 8\,5χλμ\, όπου η ομάδα θα έχει την ευκαιρία να θαυμάσει παλαιούς νερόμυλους\, πετρόχτιστες πηγές\, να διασχίσει όμορφες ξύλινες γέφυρες καθώς και την πέτρινη γέφυρα του Ζαζίου. Η πεζοπορία θα ολοκληρωθεί στην Ελάτη\, όπου σε ειδυλλιακό περιβάλλον βρίσκεται η εκκλησία της Ζωοδόχου Πηγής\, χτισμένη σε σχέδιο Βυζαντινής ναοδομίας. Στην Ελάτη η ομάδα θα έχει ελεύθερο χρόνο για φαγητό\, καφέ και περιήγηση στον πανέμορφο ορεινό οικισμό της Αρκαδίας.
URL:https://pezoporoihalandriou.gr/event/kyriaki-26-septemvriou-pezoporia-vytina-elati/
CATEGORIES:Εκδηλώσεις 2021,Πεζοπορικές διαδρομές
END:VEVENT
END:VCALENDAR