
BEGIN:VCALENDAR
VERSION:2.0
PRODID:-//Πεζοπόροι Χαλανδρίου &quot;Ευριπίδης&quot; - ECPv6.15.17.1//NONSGML v1.0//EN
CALSCALE:GREGORIAN
METHOD:PUBLISH
X-WR-CALNAME:Πεζοπόροι Χαλανδρίου &quot;Ευριπίδης&quot;
X-ORIGINAL-URL:https://pezoporoihalandriou.gr
X-WR-CALDESC:Πεζοπόροι Χαλανδρίου &quot;Ευριπίδης&quot; - Εκδηλώσεις
REFRESH-INTERVAL;VALUE=DURATION:PT1H
X-Robots-Tag:noindex
X-PUBLISHED-TTL:PT1H
BEGIN:VTIMEZONE
TZID:Europe/Athens
BEGIN:DAYLIGHT
TZOFFSETFROM:+0200
TZOFFSETTO:+0300
TZNAME:EEST
DTSTART:20200329T010000
END:DAYLIGHT
BEGIN:STANDARD
TZOFFSETFROM:+0300
TZOFFSETTO:+0200
TZNAME:EET
DTSTART:20201025T010000
END:STANDARD
BEGIN:DAYLIGHT
TZOFFSETFROM:+0200
TZOFFSETTO:+0300
TZNAME:EEST
DTSTART:20210328T010000
END:DAYLIGHT
BEGIN:STANDARD
TZOFFSETFROM:+0300
TZOFFSETTO:+0200
TZNAME:EET
DTSTART:20211031T010000
END:STANDARD
BEGIN:DAYLIGHT
TZOFFSETFROM:+0200
TZOFFSETTO:+0300
TZNAME:EEST
DTSTART:20220327T010000
END:DAYLIGHT
BEGIN:STANDARD
TZOFFSETFROM:+0300
TZOFFSETTO:+0200
TZNAME:EET
DTSTART:20221030T010000
END:STANDARD
END:VTIMEZONE
BEGIN:VEVENT
DTSTART;VALUE=DATE:20211031
DTEND;VALUE=DATE:20211101
DTSTAMP:20260420T002300
CREATED:20211031T091928Z
LAST-MODIFIED:20211031T091928Z
UID:94-1635638400-1635724799@pezoporoihalandriou.gr
SUMMARY:Κυριακή 31 Οκτωβρίου 2021 : Πεζοπορία στο φαράγγι Μύλων - Γεωργίτσι Λακωνίας
DESCRIPTION:Η πεζοπορία της ομάδας μας «Ο Ευριπίδης» θα ξεκινήσει από το Γεωργίτσι προς το Φαράγγι των Μύλων\, ακολουθώντας το παρόχθιο μονοπάτι του ποταμού Κάστορα\, ανάμεσα σε έλατα\, καστανιές και πλατάνια\, διασχίζοντας ξύλινες και πετρόχτιστες γέφυρες\, όπως την γέφυρα του Καστορείου και το Μαρμαρογέφυρο. \nΠρόκειται για μια εύκολη για αρχάριους διαδρομή εκπληκτικής φυσικής ομορφιάς 6\,6 χλμ. περίπου με βαθμό δυσκολίας 1.
URL:https://pezoporoihalandriou.gr/event/kyriaki-31-oktovriou-pezoporia-sto-faraggi-mylon-georgitsi-lakonias/
CATEGORIES:Εκδηλώσεις 2021,Πεζοπορικές διαδρομές
END:VEVENT
END:VCALENDAR