
BEGIN:VCALENDAR
VERSION:2.0
PRODID:-//Πεζοπόροι Χαλανδρίου &quot;Ευριπίδης&quot; - ECPv6.15.17.1//NONSGML v1.0//EN
CALSCALE:GREGORIAN
METHOD:PUBLISH
X-ORIGINAL-URL:https://pezoporoihalandriou.gr
X-WR-CALDESC:Πεζοπόροι Χαλανδρίου &quot;Ευριπίδης&quot; - Εκδηλώσεις
REFRESH-INTERVAL;VALUE=DURATION:PT1H
X-Robots-Tag:noindex
X-PUBLISHED-TTL:PT1H
BEGIN:VTIMEZONE
TZID:Europe/Athens
BEGIN:DAYLIGHT
TZOFFSETFROM:+0200
TZOFFSETTO:+0300
TZNAME:EEST
DTSTART:20210328T010000
END:DAYLIGHT
BEGIN:STANDARD
TZOFFSETFROM:+0300
TZOFFSETTO:+0200
TZNAME:EET
DTSTART:20211031T010000
END:STANDARD
BEGIN:DAYLIGHT
TZOFFSETFROM:+0200
TZOFFSETTO:+0300
TZNAME:EEST
DTSTART:20220327T010000
END:DAYLIGHT
BEGIN:STANDARD
TZOFFSETFROM:+0300
TZOFFSETTO:+0200
TZNAME:EET
DTSTART:20221030T010000
END:STANDARD
BEGIN:DAYLIGHT
TZOFFSETFROM:+0200
TZOFFSETTO:+0300
TZNAME:EEST
DTSTART:20230326T010000
END:DAYLIGHT
BEGIN:STANDARD
TZOFFSETFROM:+0300
TZOFFSETTO:+0200
TZNAME:EET
DTSTART:20231029T010000
END:STANDARD
END:VTIMEZONE
BEGIN:VEVENT
DTSTART;VALUE=DATE:20220206
DTEND;VALUE=DATE:20220207
DTSTAMP:20260419T163956
CREATED:20220206T073018Z
LAST-MODIFIED:20240524T150850Z
UID:3643-1644105600-1644191999@pezoporoihalandriou.gr
SUMMARY:Κυριακή  6 Φεβρουαρίου 2022: Διάσχιση στο Φαράγγι της Αγάλης
DESCRIPTION:Μετά από 4\,5 χλμ. πορείας μέσα σε ελατοσκέπαστες πλαγιές και λιβάδια υπο-αλπικού τύπου\, η ομάδα θα φτάσει στην απείρου κάλλους τοποθεσία «Κράτια»\, στα 730 μέτρα υψόμετρο. Σήμα κατατεθέν της\, η πετρόχτιστη πηγή και φυσικά ο τρίδυμος γιγαντιαίος πλάτανος που την σκιάζει. Στη συνέχεια ακολουθώντας μια διαδρομή 1\,5 χλμ. η ομάδα θα φτάσει στον τελικό προορισμό της το καταφύγιο της Αγάλης. Ο βαθμός δυσκολίας είναι  1+ και η θετική υψομετρική είναι 750μ.
URL:https://pezoporoihalandriou.gr/event/kyriaki-6-fevrouariou-diasxisi-sto-faraggi-tis-agalis/
CATEGORIES:Εκδηλώσεις 2022,Πεζοπορικές διαδρομές
END:VEVENT
BEGIN:VEVENT
DTSTART;VALUE=DATE:20220213
DTEND;VALUE=DATE:20220214
DTSTAMP:20260419T163956
CREATED:20220213T073225Z
LAST-MODIFIED:20240524T150955Z
UID:102-1644710400-1644796799@pezoporoihalandriou.gr
SUMMARY:Κυριακή 13 Φεβρουαρίου 2022: Κοπή Πρωτοχρονιάτικης Πίτας του Συλλόγου
DESCRIPTION:Ο Σύλλογος Πεζοπόρων Χαλανδρίου «Ο Ευριπίδης»  θα γιορτάσει με τους φίλους του το Νέο Έτος και θα κόψει την καθιερωμένη βασιλόπιτα στις 13 Φεβρουαρίου στο Καταφύγιο του Υμηττού. Τα μέλη του συλλόγου θα συγκεντρωθούν στις 9:00 π.μ. στους πρόποδες του βουνού για να κάνουν μια μικρή πεζοπορία 3 χλμ. έως το καταφύγιο.
URL:https://pezoporoihalandriou.gr/event/kyriaki-13-fevrouariou-kopi-protoxroniatikis-pitas-tou-syllogou/
CATEGORIES:Εκδηλώσεις 2022,Πεζοπορικές διαδρομές,Πολιτιστικές Δράσεις
END:VEVENT
END:VCALENDAR