
BEGIN:VCALENDAR
VERSION:2.0
PRODID:-//Πεζοπόροι Χαλανδρίου &quot;Ευριπίδης&quot; - ECPv6.15.17.1//NONSGML v1.0//EN
CALSCALE:GREGORIAN
METHOD:PUBLISH
X-ORIGINAL-URL:https://pezoporoihalandriou.gr
X-WR-CALDESC:Πεζοπόροι Χαλανδρίου &quot;Ευριπίδης&quot; - Εκδηλώσεις
REFRESH-INTERVAL;VALUE=DURATION:PT1H
X-Robots-Tag:noindex
X-PUBLISHED-TTL:PT1H
BEGIN:VTIMEZONE
TZID:Europe/Athens
BEGIN:DAYLIGHT
TZOFFSETFROM:+0200
TZOFFSETTO:+0300
TZNAME:EEST
DTSTART:20210328T010000
END:DAYLIGHT
BEGIN:STANDARD
TZOFFSETFROM:+0300
TZOFFSETTO:+0200
TZNAME:EET
DTSTART:20211031T010000
END:STANDARD
BEGIN:DAYLIGHT
TZOFFSETFROM:+0200
TZOFFSETTO:+0300
TZNAME:EEST
DTSTART:20220327T010000
END:DAYLIGHT
BEGIN:STANDARD
TZOFFSETFROM:+0300
TZOFFSETTO:+0200
TZNAME:EET
DTSTART:20221030T010000
END:STANDARD
BEGIN:DAYLIGHT
TZOFFSETFROM:+0200
TZOFFSETTO:+0300
TZNAME:EEST
DTSTART:20230326T010000
END:DAYLIGHT
BEGIN:STANDARD
TZOFFSETFROM:+0300
TZOFFSETTO:+0200
TZNAME:EET
DTSTART:20231029T010000
END:STANDARD
END:VTIMEZONE
BEGIN:VEVENT
DTSTART;VALUE=DATE:20220306
DTEND;VALUE=DATE:20220308
DTSTAMP:20260419T150957
CREATED:20220306T073608Z
LAST-MODIFIED:20220306T073608Z
UID:3644-1646524800-1646697599@pezoporoihalandriou.gr
SUMMARY:Κυριακή  6 & Κ. Δευτέρα 7 Μαρτίου 2022 : Πεζοπορικό διήμερο στα Λουτρά Υπάτης
DESCRIPTION:Εναλλακτικά\, όσοι συμμετέχοντες το επιθυμούν μπορούν να επισκεφτούν τα περίφημα Λουτρά της Υπάτης. Η ημέρα θα ολοκληρωθεί με γλέντι και ξεφάντωμα στο αποκριάτικο πάρτι που διοργανώνεται στο καλύτερο ξενοδοχείο της περιοχής\, στο GALAXY Hotel\,  στο οποίο και θα διαμείνει η ομάδα. \nΤην Καθαρά Δευτέρα η ομάδα θα πεζοπορήσει στο Μονοπάτι των Φαρμακίδων\, στο φαράγγι Ροδόκαλλος και θα θαυμάσει το πανέμορφο καταρράκτη Κρεμαστός. Πρόκειται για μια εύκολη για όλους διαδρομή 3 χλμ. με υψομετρική 190μ. και βαθμό δυσκολίας 1. Η ημέρα θα ολοκληρωθεί με φαγητό στις εξαιρετικές ταβέρνες του χωριού.
URL:https://pezoporoihalandriou.gr/event/kyriaki-6-k-deftera-7-martiou-pezoporiko-diimero-sta-loutra-ypatis/
CATEGORIES:Εκδηλώσεις 2022,Πεζοπορικές διαδρομές
END:VEVENT
BEGIN:VEVENT
DTSTART;VALUE=DATE:20220318
DTEND;VALUE=DATE:20220319
DTSTAMP:20260419T150957
CREATED:20220318T074030Z
LAST-MODIFIED:20240531T111024Z
UID:3646-1647561600-1647647999@pezoporoihalandriou.gr
SUMMARY:Παρασκευή 18 Μαρτίου 2022: Πεζοπορία με πανσέληνο στον Υμηττό
DESCRIPTION:Η ομάδα μας θα θαυμάσει την πανέμορφη Πανσέληνο του Μαρτίου από την κορυφή Κορακοβούνι. Πρόκειται για μια συνολική διαδρομή 7χλμ. (3\,5χλμ έως το Κορακοβούνι και επιστροφή). Σημείο συνάντησης είναι το Μοναστήρι του Αγ. Γιάννη του Κυνηγού στην Αγ. Παρασκευή  στις 06:00μ.μ.
URL:https://pezoporoihalandriou.gr/event/paraskevi-18-martiou-pezoporia-me-panselino-ston-ymitto/
CATEGORIES:Εκδηλώσεις 2022,Πεζοπορικές διαδρομές
ATTACH;FMTTYPE=image/jpeg:https://pezoporoihalandriou.gr/evripidis/wp-content/uploads/2022/03/2.jpg
END:VEVENT
BEGIN:VEVENT
DTSTART;VALUE=DATE:20220327
DTEND;VALUE=DATE:20220328
DTSTAMP:20260419T150957
CREATED:20220327T074202Z
LAST-MODIFIED:20240524T151159Z
UID:3647-1648339200-1648425599@pezoporoihalandriou.gr
SUMMARY:Κυριακή  27 Μαρτίου 2022: Πεζοπορία και επίσκεψη στην Μονή Αγία Ιερουσαλήμ στην Αμφίκλεια
DESCRIPTION:Θα πραγματοποιηθούν δύο διαδρομές. Η μικρή διαδρομή θα γίνει στο μονοπάτι της χαράδρας του Κεραμιδίου. Είναι μια εύκολη διαδρομή 6χλμ. με υψομετρική 410μ. και βαθμό δυσκολίας 1. Η μεγάλη διαδρομή 11χλμ. θα περάσει από το ξωκκλήσι του Αι Γιάννη του Προδρόμου και τη Περδικόβρυση διασχίζοντας το φαράγγι του Κεραμιδίου. Πρόκειται για μια ιδιαίτερα απαιτητική διαδρομή με υψομετρική 800μ και βαθμό δυσκολίας 1+.
URL:https://pezoporoihalandriou.gr/event/kyriaki-27-martiou-pezoporia-kai-episkepsi-stin-moni-agia-ierousalim-stin-amfikleia/
CATEGORIES:Εκδηλώσεις 2022,Πεζοπορικές διαδρομές
END:VEVENT
END:VCALENDAR