
BEGIN:VCALENDAR
VERSION:2.0
PRODID:-//Πεζοπόροι Χαλανδρίου &quot;Ευριπίδης&quot; - ECPv6.15.17.1//NONSGML v1.0//EN
CALSCALE:GREGORIAN
METHOD:PUBLISH
X-ORIGINAL-URL:https://pezoporoihalandriou.gr
X-WR-CALDESC:Πεζοπόροι Χαλανδρίου &quot;Ευριπίδης&quot; - Εκδηλώσεις
REFRESH-INTERVAL;VALUE=DURATION:PT1H
X-Robots-Tag:noindex
X-PUBLISHED-TTL:PT1H
BEGIN:VTIMEZONE
TZID:Europe/Athens
BEGIN:DAYLIGHT
TZOFFSETFROM:+0200
TZOFFSETTO:+0300
TZNAME:EEST
DTSTART:20240331T010000
END:DAYLIGHT
BEGIN:STANDARD
TZOFFSETFROM:+0300
TZOFFSETTO:+0200
TZNAME:EET
DTSTART:20241027T010000
END:STANDARD
BEGIN:DAYLIGHT
TZOFFSETFROM:+0200
TZOFFSETTO:+0300
TZNAME:EEST
DTSTART:20250330T010000
END:DAYLIGHT
BEGIN:STANDARD
TZOFFSETFROM:+0300
TZOFFSETTO:+0200
TZNAME:EET
DTSTART:20251026T010000
END:STANDARD
BEGIN:DAYLIGHT
TZOFFSETFROM:+0200
TZOFFSETTO:+0300
TZNAME:EEST
DTSTART:20260329T010000
END:DAYLIGHT
BEGIN:STANDARD
TZOFFSETFROM:+0300
TZOFFSETTO:+0200
TZNAME:EET
DTSTART:20261025T010000
END:STANDARD
END:VTIMEZONE
BEGIN:VEVENT
DTSTART;TZID=Europe/Athens:20250614T070000
DTEND;TZID=Europe/Athens:20250616T210000
DTSTAMP:20260420T101401
CREATED:20250519T184405Z
LAST-MODIFIED:20250519T184405Z
UID:5422-1749884400-1750107600@pezoporoihalandriou.gr
SUMMARY:Τριήμερη Ορειβατική & Αγωνιστική Δράση στα Άγραφα
DESCRIPTION:Ο σύλλογoς μας ετοιμάζεται για ένα δυναμικό τριήμερο γεμάτο προκλήσεις και ομορφιά στη φύση! Από τις 14 έως τις 16 Ιουνίου θα βρεθούμε στα ελατοσκέπαστα Θεσσαλικά Άγραφα\, σε ένα τριήμερο που συνδυάζει πεζοπορία\, αγώνες βουνού και κατακτήσεις κορυφών! \n🔸 Πρόγραμμα Δράσης 🔸 \n📍 Ημέρα 1η – Σάββατο 14 Ιουνίου \n\nΣυνάντηση: Στις 7:45 π.μ. στον σταθμό Μετρό Χαλανδρίου.\nΑναχώρηση: 8:00 π.μ. για το χωριό Ανθοχώρι\, ένα μαγευτικό ορεινό χωριό με παραδοσιακά πέτρινα σπίτια\, πλούσια φύση\, φαράγγια και εντυπωσιακά τοξωτά γεφύρια.\nΔιαδρομή: Φαράγγι Ανθοχωρίου & ιστορικό μονοπάτι Β20 προς τους καταρράκτες.\n\nΑπόσταση: 4 χλμ\nΥψομετρική διαφορά: 230 μ\nΔυσκολία: ⭐ (1/5)\nΔιάρκεια: 2 ώρες\n\n\nΑπόγευμα: Χαλάρωση με τσίπουρο στο γραφικό χωριό Πετρίλο.\n\n📍 Ημέρα 2η – Κυριακή 15 Ιουνίου \n\nΣυμμετοχή στον 3ο Argithea Mountain Race στο Πετρίλο!\nΕπιλέξτε τη διαδρομή που σας ταιριάζει: \n\n30 χλμ (προχωρημένοι)\n13 χλμ (μέτριας δυσκολίας)\n5 χλμ (αρχάριοι)\n\n\nΕναλλακτικά: Πεζοπορία 15 χλμ με 600 μ θετική υψομετρική\, από το σημείο Τρία Σύνορα μέχρι την κορυφή Βουτσικάκι και τερματισμό στο Πετρίλο.\nΑπόγευμα: Πεζοπορία και μπάνιο στη λίμνη Στεφανιάδα\, έναν φυσικό παράδεισο που δημιουργήθηκε το 1963 — η νεότερη φυσική λίμνη της Ελλάδας!\n\n📍 Ημέρα 3η – Δευτέρα 16 Ιουνίου \n\nΑνάβαση στο Ντελιδήμι (2.163 μ) – τη δεύτερη ψηλότερη κορυφή των Αγράφων!\nΜια απαιτητική αλλά αξέχαστη πορεία σε πυραμιδοειδή κορυφή με συγκλονιστική θέα. \n\nΑπόσταση: 20 χλμ\nΥψομετρική: 1.100 μ\nΔυσκολία: ⭐⭐⭐ (3/5)\nΏρες πορείας: 7–8\nΜέχρι το σημείο Παλαιοκοπριές (7ο χλμ) η διαδρομή είναι προσβάσιμη και ιδανική για όλους.\n\n\nΜετά την πεζοπορία: Επιστροφή και αναχώρηση για Αθήνα.\n\nℹ️ Χρήσιμες Πληροφορίες \n\nΔιαμονή: Στον καταφυγιακό χώρο της ταβέρνας “Το Διάσελο” στο χωριό Φουντωτό.\nΑπαραίτητη προϋπόθεση: Πολύ καλή φυσική κατάσταση και εμπειρία στο ορεινό πεδίο.
URL:https://pezoporoihalandriou.gr/event/triimeri-orivatiki-agonistiki-agrafa/
CATEGORIES:Αγωνιστική Ομάδα,Αρχείο Εκδηλώσεων,Εκδηλώσεις 2025,Ομάδα Κορυφών
ATTACH;FMTTYPE=image/png:https://pezoporoihalandriou.gr/evripidis/wp-content/uploads/2025/05/ΑΓΡΑΦΑ.png
END:VEVENT
END:VCALENDAR