
BEGIN:VCALENDAR
VERSION:2.0
PRODID:-//Πεζοπόροι Χαλανδρίου &quot;Ευριπίδης&quot; - ECPv6.15.17.1//NONSGML v1.0//EN
CALSCALE:GREGORIAN
METHOD:PUBLISH
X-WR-CALNAME:Πεζοπόροι Χαλανδρίου &quot;Ευριπίδης&quot;
X-ORIGINAL-URL:https://pezoporoihalandriou.gr
X-WR-CALDESC:Πεζοπόροι Χαλανδρίου &quot;Ευριπίδης&quot; - Εκδηλώσεις
REFRESH-INTERVAL;VALUE=DURATION:PT1H
X-Robots-Tag:noindex
X-PUBLISHED-TTL:PT1H
BEGIN:VTIMEZONE
TZID:Europe/Athens
BEGIN:DAYLIGHT
TZOFFSETFROM:+0200
TZOFFSETTO:+0300
TZNAME:EEST
DTSTART:20250330T010000
END:DAYLIGHT
BEGIN:STANDARD
TZOFFSETFROM:+0300
TZOFFSETTO:+0200
TZNAME:EET
DTSTART:20251026T010000
END:STANDARD
BEGIN:DAYLIGHT
TZOFFSETFROM:+0200
TZOFFSETTO:+0300
TZNAME:EEST
DTSTART:20260329T010000
END:DAYLIGHT
BEGIN:STANDARD
TZOFFSETFROM:+0300
TZOFFSETTO:+0200
TZNAME:EET
DTSTART:20261025T010000
END:STANDARD
BEGIN:DAYLIGHT
TZOFFSETFROM:+0200
TZOFFSETTO:+0300
TZNAME:EEST
DTSTART:20270328T010000
END:DAYLIGHT
BEGIN:STANDARD
TZOFFSETFROM:+0300
TZOFFSETTO:+0200
TZNAME:EET
DTSTART:20271031T010000
END:STANDARD
END:VTIMEZONE
BEGIN:VEVENT
DTSTART;VALUE=DATE:20260106
DTEND;VALUE=DATE:20260107
DTSTAMP:20260419T174837
CREATED:20251203T202604Z
LAST-MODIFIED:20251203T211655Z
UID:5703-1767657600-1767743999@pezoporoihalandriou.gr
SUMMARY:Αρχαία Επίδαυρος – Θεοφάνια με πεζοπορία\, ιστορία & μαγεία!
DESCRIPTION:Στις 6 Ιανουαρίου\, θα γιορτάσουμε τα Θεοφάνια εκεί όπου η φύση\, ο πολιτισμός και η αιωνιότητα συναντιούνται σε κάθε μονοπάτι. \nΣτο πλαίσιο των Μονοπατιών Πολιτισμού\, θα περπατήσουμε έναν από τους ομορφότερους συνδυασμούς διαδρομών (7\, 7Α & 7Β)\, στην Αρχαία Επίδαυρο μέσα σε ένα τοπίο που κόβει την ανάσα. \nΗ πεζοπορία μας ξεκινά από την Παλιά Επίδαυρο\, διασχίζει ένα γοητευτικό φυσικό τοπίο μέχρι το Αρχαίο Θέατρο και καταλήγει στο μαγευτικό Νησί (Χερσόνησο)\, εκεί όπου η θάλασσα συναντά την ιστορία.\nΚατά τη διαδρομή θα ανακαλύψουμε τα Αρχαία Τείχη\, τον Ναό της Παναγίας\, τον Τάφο των Γιατρών\, ενώ η εμπειρία κορυφώνεται με το συγκλονιστικό θέαμα της βυθισμένης ρωμαϊκής έπαυλης\, που αποκαλύπτει την ιστορία της κάτω από τα καταγάλανα νερά. \nΜία εύκολη και απολαυστική πεζοπορία\, ιδανική για όλους\, που μας καλεί να τιμήσουμε τα Θεοφάνια με έναν ξεχωριστό τρόπο — με επαφή με τη φύση\, πολιτιστικές ανακαλύψεις και τη γαλήνη της αργολικής γης. \n🥾 Πληροφορίες Πεζοπορίας🌿: \n🚶‍♂️ Απόσταση: 5 χλμ \n🗺️ Διαδρομή: (π.χ. διάσχιση\, κυκλική) \n⭐ Βαθμός Δυσκολίας: 1 εύκολο για αρχάριους \n⛰️ Θετική υψομετρική: 50 μ. \n⌛Διάρκεια πεζοπορίας: ~ 2 ώρες (μαζί με τις στάσεις\, ανάλογα με τον ρυθμό της ομάδας) \n✅Η πεζοπορία απευθύνεται σε άτομα με καλή φυσική κατάσταση και εμπειρία σε ορεινή πεζοπορία. \n🎒Εξοπλισμός : Καλή διάθεση και κέφι και ο απαραίτητος πεζοπορικός εξοπλισμός βάση του Κανονισμού του συλλόγου.
URL:https://pezoporoihalandriou.gr/event/theofania-stin-archaia-epidavro/
LOCATION:Αρχαία Επίδαυρο\, Αρχαία Επίδαυρο\, Greece
CATEGORIES:Αρχείο Εκδηλώσεων,Εκδηλώσεις 2026,Πεζοπορικές διαδρομές
ATTACH;FMTTYPE=image/jpeg:https://pezoporoihalandriou.gr/evripidis/wp-content/uploads/2025/12/ΑΡΧΑΙΑ-ΕΠΙΔΑΥΡΟΣ.jpg
END:VEVENT
END:VCALENDAR