
BEGIN:VCALENDAR
VERSION:2.0
PRODID:-//Πεζοπόροι Χαλανδρίου &quot;Ευριπίδης&quot; - ECPv6.15.17.1//NONSGML v1.0//EN
CALSCALE:GREGORIAN
METHOD:PUBLISH
X-ORIGINAL-URL:https://pezoporoihalandriou.gr
X-WR-CALDESC:Πεζοπόροι Χαλανδρίου &quot;Ευριπίδης&quot; - Εκδηλώσεις
REFRESH-INTERVAL;VALUE=DURATION:PT1H
X-Robots-Tag:noindex
X-PUBLISHED-TTL:PT1H
BEGIN:VTIMEZONE
TZID:Europe/Athens
BEGIN:DAYLIGHT
TZOFFSETFROM:+0200
TZOFFSETTO:+0300
TZNAME:EEST
DTSTART:20240331T010000
END:DAYLIGHT
BEGIN:STANDARD
TZOFFSETFROM:+0300
TZOFFSETTO:+0200
TZNAME:EET
DTSTART:20241027T010000
END:STANDARD
BEGIN:DAYLIGHT
TZOFFSETFROM:+0200
TZOFFSETTO:+0300
TZNAME:EEST
DTSTART:20250330T010000
END:DAYLIGHT
BEGIN:STANDARD
TZOFFSETFROM:+0300
TZOFFSETTO:+0200
TZNAME:EET
DTSTART:20251026T010000
END:STANDARD
BEGIN:DAYLIGHT
TZOFFSETFROM:+0200
TZOFFSETTO:+0300
TZNAME:EEST
DTSTART:20260329T010000
END:DAYLIGHT
BEGIN:STANDARD
TZOFFSETFROM:+0300
TZOFFSETTO:+0200
TZNAME:EET
DTSTART:20261025T010000
END:STANDARD
END:VTIMEZONE
BEGIN:VEVENT
DTSTART;VALUE=DATE:20251130
DTEND;VALUE=DATE:20251201
DTSTAMP:20260419T203055
CREATED:20250901T203732Z
LAST-MODIFIED:20251124T133944Z
UID:5569-1764460800-1764547199@pezoporoihalandriou.gr
SUMMARY:Πεζοπορία στο Μονοπάτι του Εφιάλτη - Καλλίδρομο Όρος
DESCRIPTION:📍 Από τη Μονή Παναγίας Δαμάστας ➡️ Μέχρι το Μνημείο του Λεωνίδα\, Θερμοπύλες \nΣας προσκαλούμε σε μια ξεχωριστή πεζοπορική εμπειρία με ιστορικό βάθος και φυσική ομορφιά! \nΘα περπατήσουμε στο θρυλικό μονοπάτι του Εφιάλτη\, γνωστό και ως Ανοπαία Ατραπός\, μέσα από το πανέμορφο Καλλίδρομο Όρος\, σε μια διαδρομή που συνδυάζει φύση\, ιστορία και πολιτισμό. \n🏛  Η Ανοπαία Ατραπός ήταν το κρυφό μονοπάτι που χρησιμοποίησε ο προδότης Εφιάλτης για να οδηγήσει τους Πέρσες στα νώτα των 300 Σπαρτιατών του Λεωνίδα\, κατά τη Μάχη των Θερμοπυλών το 480 π.Χ. Η πορεία αυτή θεωρείται μία από τις πιο καθοριστικές στην ιστορία. Σήμερα\, η διαδρομή αποκαλύπτει στον επισκέπτη μοναδικά τοπία\, πυκνά δάση και εικόνες που σε ταξιδεύουν αιώνες πίσω. \n  \n👫 Θα χωριστούμε σε 2 ομάδες :  \nΟμάδα Α – Πληροφορίες Πεζοπορίας🌿 \n🥾 Μήκος Διαδρομής: 15\,5 χλμ \n📈 Θετική υψομετρική: +550 μ \n📈 Αρνητική υψομετρική: -1080 μ \n📏 Βαθμός δυσκολίας: 2 \n🕘 Εκκίνηση: Μονή Παναγίας Δαμάστας \n🏁 Τερματισμός: Μνημείο Λεωνίδα\, Θερμοπύλες \n⌛Διάρκεια πεζοπορίας:  ~6-6\,5  ώρες μαζί με τις στάσεις ανάλογα με τον ρυθμό της ομάδας \nΜια συναρπαστική διαδρομή για όσους αγαπούν τη φύση και τις προκλήσεις. Ιδανική για πεζοπόρους με εξαιρετική φυσική κατάσταση. \n  \n🚶‍♀️ Ομάδα Β – Ήπια Πεζοπορία & Ξενάγηση \nΗ ιδανική επιλογή για όσους επιθυμούν μια πιο ήρεμη εμπειρία\, με πολιτιστικά στοιχεία και ελαφριά πεζοπορία. \n✅Πρόγραμμα Ομάδας Β: • Συνοδεύει την Ομάδα Α στα πρώτα 3\,5 χλμ \n\nΕπιστροφή στη Μονή Δαμάστας (3\,5 χλμ)\nΞενάγηση στη Μονή Δαμάστας\nΜετακίνηση με πούλμαν στο Μνημείο του Λεωνίδα\nΞενάγηση στο Κέντρο Ιστορικής Ενημέρωσης Θερμοπυλών\nΣυνάντηση με την Ομάδα Α\n\n🥾Συνολική πεζοπορία: 7 χλμ \n📈 Θετική Υψομετρική: +300 μ \n📏 Βαθμός δυσκολίας: 1 \n⌛Διάρκεια πεζοπορίας:  ~3-3\,5 ώρες μαζί με τις στάσεις ανάλογα με τον ρυθμό της ομάδας \n🍽 Μετά την πεζοπορία\, οι δύο ομάδες θα συναντηθούν και θα ολοκληρώσουν την εκδρομή με φαγητό και ξεκούραση στα όμορφα Καμένα Βούρλα. \n  \n🚶‍♀️Η δράση απευθύνεται σε άτομα με καλή φυσική κατάσταση και εμπειρία σε πεζοπορίες σε βουνό⛰️. \n🎒Εξοπλισμός : Καλή διάθεση και κέφι!!! \n🥾Και ο απαραίτητος πεζοπορικός εξοπλισμός🦯🦯 (δείτε τον Κανονισμό του συλλόγου). \n📚 Με σεβασμό στη φύση και την Ιστορία\, ας βαδίσουμε στα χνάρια του παρελθόντος και ας ζήσουμε μαζί μια ξεχωριστή εμπειρία! \n 
URL:https://pezoporoihalandriou.gr/event/pezoporia-monopati-toy-efialti-kallidromo-oros/
LOCATION:ΘΕΡΜΟΠΥΛΕΣ\, ΘΕΡΜΟΠΥΛΕΣ\, Greece
CATEGORIES:Αρχείο Εκδηλώσεων,Εκδηλώσεις 2025,Πεζοπορικές διαδρομές,Πολιτιστικές Δράσεις
ATTACH;FMTTYPE=image/jpeg:https://pezoporoihalandriou.gr/evripidis/wp-content/uploads/2025/09/ΜΟΝΟΠΑΤΙ-ΤΟΥ-ΕΦΙΑΛΤΗ.jpg
END:VEVENT
END:VCALENDAR