
BEGIN:VCALENDAR
VERSION:2.0
PRODID:-//Πεζοπόροι Χαλανδρίου &quot;Ευριπίδης&quot; - ECPv6.15.17.1//NONSGML v1.0//EN
CALSCALE:GREGORIAN
METHOD:PUBLISH
X-ORIGINAL-URL:https://pezoporoihalandriou.gr
X-WR-CALDESC:Πεζοπόροι Χαλανδρίου &quot;Ευριπίδης&quot; - Εκδηλώσεις
REFRESH-INTERVAL;VALUE=DURATION:PT1H
X-Robots-Tag:noindex
X-PUBLISHED-TTL:PT1H
BEGIN:VTIMEZONE
TZID:Europe/Athens
BEGIN:DAYLIGHT
TZOFFSETFROM:+0200
TZOFFSETTO:+0300
TZNAME:EEST
DTSTART:20240331T010000
END:DAYLIGHT
BEGIN:STANDARD
TZOFFSETFROM:+0300
TZOFFSETTO:+0200
TZNAME:EET
DTSTART:20241027T010000
END:STANDARD
BEGIN:DAYLIGHT
TZOFFSETFROM:+0200
TZOFFSETTO:+0300
TZNAME:EEST
DTSTART:20250330T010000
END:DAYLIGHT
BEGIN:STANDARD
TZOFFSETFROM:+0300
TZOFFSETTO:+0200
TZNAME:EET
DTSTART:20251026T010000
END:STANDARD
BEGIN:DAYLIGHT
TZOFFSETFROM:+0200
TZOFFSETTO:+0300
TZNAME:EEST
DTSTART:20260329T010000
END:DAYLIGHT
BEGIN:STANDARD
TZOFFSETFROM:+0300
TZOFFSETTO:+0200
TZNAME:EET
DTSTART:20261025T010000
END:STANDARD
END:VTIMEZONE
BEGIN:VEVENT
DTSTART;VALUE=DATE:20251109
DTEND;VALUE=DATE:20251110
DTSTAMP:20260420T000826
CREATED:20250901T200230Z
LAST-MODIFIED:20250901T200230Z
UID:5559-1762646400-1762732799@pezoporoihalandriou.gr
SUMMARY:Ο Σύλλογός μας στον Αυθεντικό Μαραθώνιο της Αθήνας!
DESCRIPTION:Με υπερηφάνεια ανακοινώνουμε τη συμμετοχή της αγωνιστικής ομάδας του συλλόγου μας στον φετινό Αυθεντικό Μαραθώνιο της Αθήνας\, την Κυριακή 9 Νοεμβρίου 2025. \nΟι αθλητές μας θα εκπροσωπήσουν τον Σύλλογο στη διαδρομή-σύμβολο της παγκόσμιας μαραθώνιας ιστορίας\, τιμώντας με το ήθος\, την επιμονή και τη δύναμή τους την παράδοση και το όραμα του συλλόγου. \nΚαλή επιτυχία στους δρομείς μας! \nΕίμαστε όλοι μαζί σας!
URL:https://pezoporoihalandriou.gr/event/marathonios-athinas/
CATEGORIES:Αγωνιστική Ομάδα,Αρχείο Εκδηλώσεων,Εκδηλώσεις 2025
ATTACH;FMTTYPE=image/jpeg:https://pezoporoihalandriou.gr/evripidis/wp-content/uploads/2025/09/ΜΑΡΑΘΩΝΙΟΣ.jpg
END:VEVENT
END:VCALENDAR