
BEGIN:VCALENDAR
VERSION:2.0
PRODID:-//Πεζοπόροι Χαλανδρίου &quot;Ευριπίδης&quot; - ECPv6.15.20//NONSGML v1.0//EN
CALSCALE:GREGORIAN
METHOD:PUBLISH
X-WR-CALNAME:Πεζοπόροι Χαλανδρίου &quot;Ευριπίδης&quot;
X-ORIGINAL-URL:https://pezoporoihalandriou.gr
X-WR-CALDESC:Πεζοπόροι Χαλανδρίου &quot;Ευριπίδης&quot; - Εκδηλώσεις
REFRESH-INTERVAL;VALUE=DURATION:PT1H
X-Robots-Tag:noindex
X-PUBLISHED-TTL:PT1H
BEGIN:VTIMEZONE
TZID:Europe/Athens
BEGIN:DAYLIGHT
TZOFFSETFROM:+0200
TZOFFSETTO:+0300
TZNAME:EEST
DTSTART:20180325T010000
END:DAYLIGHT
BEGIN:STANDARD
TZOFFSETFROM:+0300
TZOFFSETTO:+0200
TZNAME:EET
DTSTART:20181028T010000
END:STANDARD
BEGIN:DAYLIGHT
TZOFFSETFROM:+0200
TZOFFSETTO:+0300
TZNAME:EEST
DTSTART:20190331T010000
END:DAYLIGHT
BEGIN:STANDARD
TZOFFSETFROM:+0300
TZOFFSETTO:+0200
TZNAME:EET
DTSTART:20191027T010000
END:STANDARD
BEGIN:DAYLIGHT
TZOFFSETFROM:+0200
TZOFFSETTO:+0300
TZNAME:EEST
DTSTART:20200329T010000
END:DAYLIGHT
BEGIN:STANDARD
TZOFFSETFROM:+0300
TZOFFSETTO:+0200
TZNAME:EET
DTSTART:20201025T010000
END:STANDARD
END:VTIMEZONE
BEGIN:VEVENT
DTSTART;VALUE=DATE:20190929
DTEND;VALUE=DATE:20190930
DTSTAMP:20260423T183143
CREATED:20190929T061343Z
LAST-MODIFIED:20240930T195243Z
UID:3611-1569715200-1569801599@pezoporoihalandriou.gr
SUMMARY:Περιήγηση στο ιστορικό κέντρο της Αθήνας
DESCRIPTION:Οι Πεζοπόροι Χαλανδρίου «Ο Ευριπίδης» εξορμούν στο εκπληκτικό ιστορικό κέντρο της Αθήνας\, περπατούν ανάμεσα στην ιστορία της πόλης και ξεναγούνται στα αρχαία μνημεία της και στην Ακρόπολη και επισκέπτονται το ιστορικό μουσείο Κανελόπουλος.
URL:https://pezoporoihalandriou.gr/event/kyriaki-29-septemvriou-2019-periigisi-sto-istoriko-kentro-tis-athinas/
CATEGORIES:Εκδηλώσεις 2019,Πολιτιστικές Δράσεις
END:VEVENT
END:VCALENDAR