
BEGIN:VCALENDAR
VERSION:2.0
PRODID:-//Πεζοπόροι Χαλανδρίου &quot;Ευριπίδης&quot; - ECPv6.15.17.1//NONSGML v1.0//EN
CALSCALE:GREGORIAN
METHOD:PUBLISH
X-ORIGINAL-URL:https://pezoporoihalandriou.gr
X-WR-CALDESC:Πεζοπόροι Χαλανδρίου &quot;Ευριπίδης&quot; - Εκδηλώσεις
REFRESH-INTERVAL;VALUE=DURATION:PT1H
X-Robots-Tag:noindex
X-PUBLISHED-TTL:PT1H
BEGIN:VTIMEZONE
TZID:Europe/Athens
BEGIN:DAYLIGHT
TZOFFSETFROM:+0200
TZOFFSETTO:+0300
TZNAME:EEST
DTSTART:20240331T010000
END:DAYLIGHT
BEGIN:STANDARD
TZOFFSETFROM:+0300
TZOFFSETTO:+0200
TZNAME:EET
DTSTART:20241027T010000
END:STANDARD
BEGIN:DAYLIGHT
TZOFFSETFROM:+0200
TZOFFSETTO:+0300
TZNAME:EEST
DTSTART:20250330T010000
END:DAYLIGHT
BEGIN:STANDARD
TZOFFSETFROM:+0300
TZOFFSETTO:+0200
TZNAME:EET
DTSTART:20251026T010000
END:STANDARD
BEGIN:DAYLIGHT
TZOFFSETFROM:+0200
TZOFFSETTO:+0300
TZNAME:EEST
DTSTART:20260329T010000
END:DAYLIGHT
BEGIN:STANDARD
TZOFFSETFROM:+0300
TZOFFSETTO:+0200
TZNAME:EET
DTSTART:20261025T010000
END:STANDARD
END:VTIMEZONE
BEGIN:VEVENT
DTSTART;VALUE=DATE:20250111
DTEND;VALUE=DATE:20250113
DTSTAMP:20260420T094825
CREATED:20250107T211609Z
LAST-MODIFIED:20250107T211609Z
UID:5173-1736553600-1736726399@pezoporoihalandriou.gr
SUMMARY:Πεζοπορικό διήμερο στην Ζήρεια – Λίμνη Δασίου (Καταφύγιο Ζήρειας)
DESCRIPTION:Το Σαββατοκύριακο 11 – 12 Ιανουαρίου ετοιμάζουμε ένα πεζοπορικό διήμερο στο μυθικό βουνό του Ερμή\, την Ζήρεια με διανυκτέρευση στο ομώνυμο καταφύγιο. \nΕναλλακτικά\, όποιος θέλει μπορεί να έρθει απευθείας την Κυριακή στο parking του Χιονοδρομικού Κέντρου Ζήρεια\, στις 10:30 π.μ. που θα ξεκινήσει η πεζοπορία. \nΗ Κυλλήνη ή Ζήρεια (προέρχεται από σλαβική ρίζα που σημαίνει «βελανίδι»)\, έχει ύψος 2.374 μέτρα και είναι το δεύτερο υψηλότερο βουνό της Πελοποννήσου. \nΤο Σάββατο θα ανέβουμε με ιδιωτικά αυτοκίνητα το βουνό έως το Β’ καταφύγιο της Ζήρειας. Το καταφύγιο της Ζήρειας βρίσκεται σε ένα κομβικό σημείο του βουνού. Είναι χτισμένο σε υψόμετρο 1.650 μέτρων\, μέσα σε μια χαράδρωση\, στη θέση “Πόρτες”.  Απέχει περίπου 2 χιλιόμετρα και 20′-30′ περπάτημα από το parking του αθλητικού-χιονοδρομικού κέντρου\, στο Οροπέδιο της Ζήρειας\, όπου θα αφήσουμε τα αυτοκίνητα. \nΘα διανυκτερεύσουμε το βράδυ στο φιλόξενο καταφύγιο και το πρωί θα ξεκινήσουμε την πεζοπορία μας μέσα στα χιόνια από το χιονοδρομικό κέντρο της Ζήρειας μέχρι την υπέροχη λίμνη Δασίου και επιστροφή. \nΗ λίμνη βρίσκεται σε υψόμετρο 1.480 μέτρων. Είναι μια ορεινή εποχιακή λίμνη έκτασης 60 περίπου στρεμμάτων και χαρακτηρίζεται ως πόλγη\, δηλαδή ρηχή λίμνη. Δέχεται νερά από τις βροχοπτώσεις και τις χιονοπτώσεις και τα συγκρατεί  τους περισσότερους μήνες του χρόνου\, αλλά ξεραίνεται το καλοκαίρι. Αποτελεί μια από τις λίγες φυσικές λίμνες της Πελοποννήσου και είναι μία από τις ελάχιστες της Ελλάδας σε αυτό το υψόμετρο. \nΠρόκειται για μια υπέροχη διαδρομή μέσα στο χιονισμένο ελατοδάσος η οποία θα μας ανταμείψει με την καταπληκτική θέα προς τις κορυφές της Ζήρειας\, το Μαυρυόρος και τη θάλασσα στα βόρεια. \n⛰️Πληροφορίες Διαδρομής: \nΑπόσταση Πεζοπορίας:  10\,5 χλμ\nΒαθμός Δυσκολίας: 1 + (λόγω χιονιού)\nΘετική υψομετρική:  120 μ. \nΏρες πορείας: 5 ώρες μαζί με τις στάσεις ανάλογα με τον ρυθμό της ομάδας \nΗ δράση απευθύνεται σε άτομα με καλή φυσική κατάσταση και εμπειρία σε πεζοπορίες σε βουνό🏔. \n🥾 Εξοπλισμός🎒 : Καλή διάθεση και κέφι!!! \nΠεζοπορικά μποτάκια\, σακίδιο πλάτης\, μπαστούνια πεζοπορίας\, νερό\, σνακ για ενέργεια\, σφυρίχτρα\, ατομικό φαρμακείο. \nΙσοθερμικά ρούχα\, fleece ή soft sell jacket\, αντιανεμικό αδιάβροχο\, καπέλο ή σκούφο\, γκέτες\, κάλτσες\, γάντια\, κάλυμμα λαιμού\, αντιηλιακή κρέμα\, γυαλιά ηλίου. \nSleeping bag \n⏰ Ώρα αναχώρησης και σημείο συνάντησης: στις 11:00 π.μ. στο Μετρό Χαλανδρίου
URL:https://pezoporoihalandriou.gr/event/%cf%80%ce%b5%ce%b6%ce%bf%cf%80%ce%bf%cf%81%ce%b9%ce%ba%cf%8c-%ce%b4%ce%b9%ce%ae%ce%bc%ce%b5%cf%81%ce%bf-%cf%83%cf%84%ce%b7%ce%bd-%ce%b6%ce%ae%cf%81%ce%b5%ce%b9%ce%b1-%ce%bb%ce%af%ce%bc%ce%bd/
LOCATION:ΖΗΡΕΙΑ\, ΖΗΡΕΙΑ\, Greece
CATEGORIES:Εκδηλώσεις 2025,Πεζοπορικές διαδρομές
ATTACH;FMTTYPE=image/jpeg:https://pezoporoihalandriou.gr/evripidis/wp-content/uploads/2025/01/ΖΗΡΕΙΑ.jpg
END:VEVENT
END:VCALENDAR