
BEGIN:VCALENDAR
VERSION:2.0
PRODID:-//Πεζοπόροι Χαλανδρίου &quot;Ευριπίδης&quot; - ECPv6.15.17.1//NONSGML v1.0//EN
CALSCALE:GREGORIAN
METHOD:PUBLISH
X-WR-CALNAME:Πεζοπόροι Χαλανδρίου &quot;Ευριπίδης&quot;
X-ORIGINAL-URL:https://pezoporoihalandriou.gr
X-WR-CALDESC:Πεζοπόροι Χαλανδρίου &quot;Ευριπίδης&quot; - Εκδηλώσεις
REFRESH-INTERVAL;VALUE=DURATION:PT1H
X-Robots-Tag:noindex
X-PUBLISHED-TTL:PT1H
BEGIN:VTIMEZONE
TZID:Europe/Athens
BEGIN:DAYLIGHT
TZOFFSETFROM:+0200
TZOFFSETTO:+0300
TZNAME:EEST
DTSTART:20240331T010000
END:DAYLIGHT
BEGIN:STANDARD
TZOFFSETFROM:+0300
TZOFFSETTO:+0200
TZNAME:EET
DTSTART:20241027T010000
END:STANDARD
BEGIN:DAYLIGHT
TZOFFSETFROM:+0200
TZOFFSETTO:+0300
TZNAME:EEST
DTSTART:20250330T010000
END:DAYLIGHT
BEGIN:STANDARD
TZOFFSETFROM:+0300
TZOFFSETTO:+0200
TZNAME:EET
DTSTART:20251026T010000
END:STANDARD
BEGIN:DAYLIGHT
TZOFFSETFROM:+0200
TZOFFSETTO:+0300
TZNAME:EEST
DTSTART:20260329T010000
END:DAYLIGHT
BEGIN:STANDARD
TZOFFSETFROM:+0300
TZOFFSETTO:+0200
TZNAME:EET
DTSTART:20261025T010000
END:STANDARD
END:VTIMEZONE
BEGIN:VEVENT
DTSTART;VALUE=DATE:20250309
DTEND;VALUE=DATE:20250310
DTSTAMP:20260419T203753
CREATED:20250216T192113Z
LAST-MODIFIED:20250216T192113Z
UID:5290-1741478400-1741564799@pezoporoihalandriou.gr
SUMMARY:Συμμετοχή της Αγωνιστικής Ομάδας στον 13ο Ημιμαραθώνιο Αθήνας
DESCRIPTION:Με χαρά σας ανακοινώνουμε ότι ο σύλλογός μας θα συμμετάσχει στον 13ο Ημιμαραθώνιο Αθήνας\, που θα διεξαχθεί την Κυριακή\, 09 Μαρτίου 2025. Για ακόμη μια χρονιά η Αγωνιστική Ομάδα των Πεζοπόρων Χαλανδρίου «Ο Ευριπίδης» θα συμμετέχει στο μεγαλύτερο δρομικό γεγονός της Άνοιξης στους δρόμους της Αθήνας. Μια υπέροχη διαδρομή στο ιστορικό κέντρο της πόλης μας! \nΔιοργανώνονται 3 αγώνες με 25.000 αθλητές που θα περάσουν από 40 ιστορικά μνημεία της Αθήνας και 1.500 εθελοντές. Μια γιορτή στο πνεύμα του αθλητισμού…. \n🎽 Ομαδική Συμμετοχή: Ο σύλλογός μας θα τρέξει ως ομάδα\, προωθώντας την άθληση και την ομαδικότητα\, στον Ημιμαραθώνιο των 21 χλμ. \n📍 Σημείο Εκκίνησης & Διαδρομή: Η εκκίνηση και ο τερματισμός γίνεται μπροστά από το Μνημείο του Άγνωστου Στρατιώτη στην Πλατεία Συντάγματος. \nΑς τρέξουμε μαζί και ας γιορτάσουμε τον αθλητισμό! 🏅
URL:https://pezoporoihalandriou.gr/event/simetoxi-imimarathonios-athinas%cf%83%cf%84%ce%bf/
LOCATION:Πλατεία Συντάγματος\, Πλατεία Συντάγματος\, Αθήνα\, Greece
CATEGORIES:Αγωνιστική Ομάδα,Εκδηλώσεις 2025
ATTACH;FMTTYPE=image/jpeg:https://pezoporoihalandriou.gr/evripidis/wp-content/uploads/2025/02/ΗΜΙΜΑΡΑΘΩΝΙΟΣ.jpg
END:VEVENT
END:VCALENDAR