
BEGIN:VCALENDAR
VERSION:2.0
PRODID:-//Πεζοπόροι Χαλανδρίου &quot;Ευριπίδης&quot; - ECPv6.15.17.1//NONSGML v1.0//EN
CALSCALE:GREGORIAN
METHOD:PUBLISH
X-WR-CALNAME:Πεζοπόροι Χαλανδρίου &quot;Ευριπίδης&quot;
X-ORIGINAL-URL:https://pezoporoihalandriou.gr
X-WR-CALDESC:Πεζοπόροι Χαλανδρίου &quot;Ευριπίδης&quot; - Εκδηλώσεις
REFRESH-INTERVAL;VALUE=DURATION:PT1H
X-Robots-Tag:noindex
X-PUBLISHED-TTL:PT1H
BEGIN:VTIMEZONE
TZID:Europe/Athens
BEGIN:DAYLIGHT
TZOFFSETFROM:+0200
TZOFFSETTO:+0300
TZNAME:EEST
DTSTART:20210328T010000
END:DAYLIGHT
BEGIN:STANDARD
TZOFFSETFROM:+0300
TZOFFSETTO:+0200
TZNAME:EET
DTSTART:20211031T010000
END:STANDARD
BEGIN:DAYLIGHT
TZOFFSETFROM:+0200
TZOFFSETTO:+0300
TZNAME:EEST
DTSTART:20220327T010000
END:DAYLIGHT
BEGIN:STANDARD
TZOFFSETFROM:+0300
TZOFFSETTO:+0200
TZNAME:EET
DTSTART:20221030T010000
END:STANDARD
BEGIN:DAYLIGHT
TZOFFSETFROM:+0200
TZOFFSETTO:+0300
TZNAME:EEST
DTSTART:20230326T010000
END:DAYLIGHT
BEGIN:STANDARD
TZOFFSETFROM:+0300
TZOFFSETTO:+0200
TZNAME:EET
DTSTART:20231029T010000
END:STANDARD
END:VTIMEZONE
BEGIN:VEVENT
DTSTART;VALUE=DATE:20221112
DTEND;VALUE=DATE:20221113
DTSTAMP:20260420T031534
CREATED:20221112T080557Z
LAST-MODIFIED:20240531T105743Z
UID:3660-1668211200-1668297599@pezoporoihalandriou.gr
SUMMARY:Σάββατο 12 Νοεμβρίου 2022: Οι Πεζοπόροι πάνε θέατρο στα «Μαθήματα Κωμωδίας»
DESCRIPTION:Θα παρακολουθήσουμε την θεατρική παράσταση «Μαθήματα Κωμωδίας» στο θέατρο «Μικρό Παλλάς» στην Αθήνα. Πρόκειται για μια ξεκαρδιστική κωμωδία που εμπνέεται από τις μεθόδους εκπαίδευσης πάνω στην κωμωδία και αποτελεί ένα μάθημα γελοιοποίησης όλων όσων μας βασανίζουν.
URL:https://pezoporoihalandriou.gr/event/savvato-12-noemvriou-oi-pezoporoi-pane-theatro-sta-mathimata-komodias/
CATEGORIES:Εκδηλώσεις 2022,Πολιτιστικές Δράσεις
ATTACH;FMTTYPE=image/jpeg:https://pezoporoihalandriou.gr/evripidis/wp-content/uploads/2022/11/κωμωδίας.jpg
END:VEVENT
END:VCALENDAR