
BEGIN:VCALENDAR
VERSION:2.0
PRODID:-//Πεζοπόροι Χαλανδρίου &quot;Ευριπίδης&quot; - ECPv6.15.20//NONSGML v1.0//EN
CALSCALE:GREGORIAN
METHOD:PUBLISH
X-ORIGINAL-URL:https://pezoporoihalandriou.gr
X-WR-CALDESC:Πεζοπόροι Χαλανδρίου &quot;Ευριπίδης&quot; - Εκδηλώσεις
REFRESH-INTERVAL;VALUE=DURATION:PT1H
X-Robots-Tag:noindex
X-PUBLISHED-TTL:PT1H
BEGIN:VTIMEZONE
TZID:Europe/Athens
BEGIN:DAYLIGHT
TZOFFSETFROM:+0200
TZOFFSETTO:+0300
TZNAME:EEST
DTSTART:20230326T010000
END:DAYLIGHT
BEGIN:STANDARD
TZOFFSETFROM:+0300
TZOFFSETTO:+0200
TZNAME:EET
DTSTART:20231029T010000
END:STANDARD
BEGIN:DAYLIGHT
TZOFFSETFROM:+0200
TZOFFSETTO:+0300
TZNAME:EEST
DTSTART:20240331T010000
END:DAYLIGHT
BEGIN:STANDARD
TZOFFSETFROM:+0300
TZOFFSETTO:+0200
TZNAME:EET
DTSTART:20241027T010000
END:STANDARD
BEGIN:DAYLIGHT
TZOFFSETFROM:+0200
TZOFFSETTO:+0300
TZNAME:EEST
DTSTART:20250330T010000
END:DAYLIGHT
BEGIN:STANDARD
TZOFFSETFROM:+0300
TZOFFSETTO:+0200
TZNAME:EET
DTSTART:20251026T010000
END:STANDARD
END:VTIMEZONE
BEGIN:VEVENT
DTSTART;VALUE=DATE:20241215
DTEND;VALUE=DATE:20241216
DTSTAMP:20260420T215248
CREATED:20241110T214501Z
LAST-MODIFIED:20241210T191535Z
UID:5089-1734220800-1734307199@pezoporoihalandriou.gr
SUMMARY:Πεζοπορία στον Πύργο του Κορακοβουνίου
DESCRIPTION:Την Κυριακή 15 Δεκεμβρίου θα υποδεχθούμε τους φίλους μας από τον σύλλογο ΑΧΟΛ Βοιωτίας και θα πεζοπορήσουμε μαζί τους στα όμορφα μονοπάτια του Βόρειου Υμηττού. \nΗ διαδρομή μας θα ξεκινήσει από την  Ιερά Μόνη Αγίου Ιωάννου και μέσω των μονοπατιών 11\, 13\, 14 και 10 θα καταλήξει στην Κορυφή Κορακοβούνι στα 728μ. Θα διανύσουμε μια πολύ ενδιαφέρουσα διαδρομή. Από την κορυφή θα έχουμε μια καταπληκτική θέα σε όλη την Αττική\, στη Νότια Εύβοια και στα νησιά  του Σαρωνικού. \nΗ πορεία μας θα περάσει από το Ορυχείο Φυρέ και από δύο πολύ όμορφα σπήλαια\, της Νυχτερίδας και του Λιονταριού τα οποία και θα επισκεφτούμε. \nΠληροφορίες Διαδρομής : \nΑπόσταση διαδρομής: κυκλική 7\,5 χλμ \nΥψομετρική: Θετική 410μ \nΒαθμός δυσκολίας: 1+ \nΏρες πεζοπορίας: 4 – 4:30 ανάλογα τον ρυθμό της ομάδας. \n⏰ Ώρα συνάντησης: 8:50πμ \nΕκκίνηση πεζοπορίας: Ιερά Μονή Αγίου Ιωάννου Κυνηγού των Φιλοσόφων (οδός Ανατολικής Μεσογείου\, Αγία Παρασκευή ) \n🥾 Εξοπλισμός: Καλή διάθεση και κέφι!!! \nΠεζοπορικά μποτάκια\, σακίδιο πλάτης\, μπαστούνια πεζοπορίας\, νερό\, σνακ για ενέργεια\, σφυρίχτρα\, ατομικό φαρμακείο. \nΠροαιρετικός : Ισοθερμικά ρούχα\, fleece ή soft sell jacket\, αντιανεμικό αδιάβροχο\, καπέλο ή σκούφο\, κάλτσες\, γάντια\, κάλυμμα λαιμού\, αντιηλιακή κρέμα\, γυαλιά ηλίου.
URL:https://pezoporoihalandriou.gr/event/pezoporia-sto-korakovouni-ymittos/
LOCATION:Κορακοβούνι Υμηττού\, Πύργος Κορακοβουνίου\, Υμηττός\, Greece
CATEGORIES:Αρχείο Εκδηλώσεων,Εκδηλώσεις 2024,Πεζοπορικές διαδρομές
ATTACH;FMTTYPE=image/jpeg:https://pezoporoihalandriou.gr/evripidis/wp-content/uploads/2024/11/ΚΟΡΑΚΟΒΟΥΝΙ.jpg
END:VEVENT
END:VCALENDAR