
BEGIN:VCALENDAR
VERSION:2.0
PRODID:-//Πεζοπόροι Χαλανδρίου &quot;Ευριπίδης&quot; - ECPv6.15.17.1//NONSGML v1.0//EN
CALSCALE:GREGORIAN
METHOD:PUBLISH
X-WR-CALNAME:Πεζοπόροι Χαλανδρίου &quot;Ευριπίδης&quot;
X-ORIGINAL-URL:https://pezoporoihalandriou.gr
X-WR-CALDESC:Πεζοπόροι Χαλανδρίου &quot;Ευριπίδης&quot; - Εκδηλώσεις
REFRESH-INTERVAL;VALUE=DURATION:PT1H
X-Robots-Tag:noindex
X-PUBLISHED-TTL:PT1H
BEGIN:VTIMEZONE
TZID:Europe/Athens
BEGIN:DAYLIGHT
TZOFFSETFROM:+0200
TZOFFSETTO:+0300
TZNAME:EEST
DTSTART:20230326T010000
END:DAYLIGHT
BEGIN:STANDARD
TZOFFSETFROM:+0300
TZOFFSETTO:+0200
TZNAME:EET
DTSTART:20231029T010000
END:STANDARD
BEGIN:DAYLIGHT
TZOFFSETFROM:+0200
TZOFFSETTO:+0300
TZNAME:EEST
DTSTART:20240331T010000
END:DAYLIGHT
BEGIN:STANDARD
TZOFFSETFROM:+0300
TZOFFSETTO:+0200
TZNAME:EET
DTSTART:20241027T010000
END:STANDARD
BEGIN:DAYLIGHT
TZOFFSETFROM:+0200
TZOFFSETTO:+0300
TZNAME:EEST
DTSTART:20250330T010000
END:DAYLIGHT
BEGIN:STANDARD
TZOFFSETFROM:+0300
TZOFFSETTO:+0200
TZNAME:EET
DTSTART:20251026T010000
END:STANDARD
END:VTIMEZONE
BEGIN:VEVENT
DTSTART;VALUE=DATE:20241110
DTEND;VALUE=DATE:20241111
DTSTAMP:20260419T164350
CREATED:20241101T175659Z
LAST-MODIFIED:20241101T175709Z
UID:4995-1731196800-1731283199@pezoporoihalandriou.gr
SUMMARY:41ος Αυθεντικός Μαραθώνιος Αθήνας
DESCRIPTION:Η Αγωνιστική Ομάδα του Συλλόγου μας για ακόμη μια χρονιά θα συμμετέχει στην μεγάλη γιορτή του Κλασσικού Μαραθωνίου Δρόμου. \nΤα μέλη μας θα δώσουν το παρόν δυναμικά σε  αυτό το ιστορικό γεγονός και ως αθλητές αλλά και ως εθελοντές. Ελάτε να σχηματίσουμε μια ανθρώπινη αλυσίδα που θα βοηθήσει στην διεξαγωγή αυτής της διοργάνωσης και να ζήσουμε μοναδικές εμπειρίες. \nΚαλή επιτυχία στην Αγωνιστική μας Ομάδα!!!
URL:https://pezoporoihalandriou.gr/event/41-authentikos-marathonios-athinas/
CATEGORIES:Αγωνιστική Ομάδα,Εκδηλώσεις 2024
ATTACH;FMTTYPE=image/png:https://pezoporoihalandriou.gr/evripidis/wp-content/uploads/2024/10/Marathon-24-banner.png
END:VEVENT
END:VCALENDAR