
BEGIN:VCALENDAR
VERSION:2.0
PRODID:-//Πεζοπόροι Χαλανδρίου &quot;Ευριπίδης&quot; - ECPv6.15.17.1//NONSGML v1.0//EN
CALSCALE:GREGORIAN
METHOD:PUBLISH
X-ORIGINAL-URL:https://pezoporoihalandriou.gr
X-WR-CALDESC:Πεζοπόροι Χαλανδρίου &quot;Ευριπίδης&quot; - Εκδηλώσεις
REFRESH-INTERVAL;VALUE=DURATION:PT1H
X-Robots-Tag:noindex
X-PUBLISHED-TTL:PT1H
BEGIN:VTIMEZONE
TZID:Europe/Athens
BEGIN:DAYLIGHT
TZOFFSETFROM:+0200
TZOFFSETTO:+0300
TZNAME:EEST
DTSTART:20220327T010000
END:DAYLIGHT
BEGIN:STANDARD
TZOFFSETFROM:+0300
TZOFFSETTO:+0200
TZNAME:EET
DTSTART:20221030T010000
END:STANDARD
BEGIN:DAYLIGHT
TZOFFSETFROM:+0200
TZOFFSETTO:+0300
TZNAME:EEST
DTSTART:20230326T010000
END:DAYLIGHT
BEGIN:STANDARD
TZOFFSETFROM:+0300
TZOFFSETTO:+0200
TZNAME:EET
DTSTART:20231029T010000
END:STANDARD
BEGIN:DAYLIGHT
TZOFFSETFROM:+0200
TZOFFSETTO:+0300
TZNAME:EEST
DTSTART:20240331T010000
END:DAYLIGHT
BEGIN:STANDARD
TZOFFSETFROM:+0300
TZOFFSETTO:+0200
TZNAME:EET
DTSTART:20241027T010000
END:STANDARD
END:VTIMEZONE
BEGIN:VEVENT
DTSTART;VALUE=DATE:20230507
DTEND;VALUE=DATE:20230508
DTSTAMP:20260420T004401
CREATED:20230507T124138Z
LAST-MODIFIED:20240531T112247Z
UID:3670-1683417600-1683503999@pezoporoihalandriou.gr
SUMMARY:Κυριακή 7 Μαΐου 2023: Συμμετοχή της Αγωνιστικής Ομάδας στο «Μονοπάτι της Εκεχειρίας» στην Ολυμπία
DESCRIPTION:Πρόκειται για μια διαδρομή 50 χλμ. η οποία φέρνει στο προσκήνιο τα ιδανικά του σεβασμού στον άνθρωπο και το ιερό δικαίωμα στην ειρήνη. Στον τόπο όπου γεννήθηκαν οι Ολυμπιακοί Αγώνες και κάθε τέσσερα χρόνια οι αρχαίοι Έλληνες ενώνονταν για να τιμήσουν τους θεούς τους\, η Συμπολιτεία Ολυμπίας διοργάνωνε τον «Δρόμο της Εκεχειρίας». Τον δρόμο που οδηγεί από την Αρχαία Ήλιδα (διοργανώτρια των αρχαίων Ολυμπιακών αγώνων) στην Αρχαία Ολυμπία (τόπο τέλεσης των αγώνων). Τον δρόμο που οδηγεί από την Εκεχειρία στην Ειρήνη. Κάθε δρομέας γίνεται αγγελιαφόρος αυτού του σημαντικού μηνύματος για την Ειρήνη! \nΟι σύγχρονοι κάτοικοι\, απόγονοι των αρχαίων Ηλείων\, υποδέχονται τους δρομείς\,  «Κήρυκες της Εκεχειρίας»\, αλλά και τους περιπατητές με δροσερό νερό και με παραδοσιακά προϊόντα.
URL:https://pezoporoihalandriou.gr/event/kyriaki-7-maiou-symmetoxi-tis-agonistikis-omadas-sto-monopati-tis-ekexeirias-stin-olympia/
CATEGORIES:Αγωνιστική Ομάδα,Εκδηλώσεις 2023
ATTACH;FMTTYPE=image/jpeg:https://pezoporoihalandriou.gr/evripidis/wp-content/uploads/2023/05/2023-11-27_23-14-51-539.jpg
END:VEVENT
END:VCALENDAR