
BEGIN:VCALENDAR
VERSION:2.0
PRODID:-//Πεζοπόροι Χαλανδρίου &quot;Ευριπίδης&quot; - ECPv6.15.20//NONSGML v1.0//EN
CALSCALE:GREGORIAN
METHOD:PUBLISH
X-ORIGINAL-URL:https://pezoporoihalandriou.gr
X-WR-CALDESC:Πεζοπόροι Χαλανδρίου &quot;Ευριπίδης&quot; - Εκδηλώσεις
REFRESH-INTERVAL;VALUE=DURATION:PT1H
X-Robots-Tag:noindex
X-PUBLISHED-TTL:PT1H
BEGIN:VTIMEZONE
TZID:Europe/Athens
BEGIN:DAYLIGHT
TZOFFSETFROM:+0200
TZOFFSETTO:+0300
TZNAME:EEST
DTSTART:20210328T010000
END:DAYLIGHT
BEGIN:STANDARD
TZOFFSETFROM:+0300
TZOFFSETTO:+0200
TZNAME:EET
DTSTART:20211031T010000
END:STANDARD
BEGIN:DAYLIGHT
TZOFFSETFROM:+0200
TZOFFSETTO:+0300
TZNAME:EEST
DTSTART:20220327T010000
END:DAYLIGHT
BEGIN:STANDARD
TZOFFSETFROM:+0300
TZOFFSETTO:+0200
TZNAME:EET
DTSTART:20221030T010000
END:STANDARD
BEGIN:DAYLIGHT
TZOFFSETFROM:+0200
TZOFFSETTO:+0300
TZNAME:EEST
DTSTART:20230326T010000
END:DAYLIGHT
BEGIN:STANDARD
TZOFFSETFROM:+0300
TZOFFSETTO:+0200
TZNAME:EET
DTSTART:20231029T010000
END:STANDARD
END:VTIMEZONE
BEGIN:VEVENT
DTSTART;VALUE=DATE:20221218
DTEND;VALUE=DATE:20221219
DTSTAMP:20260423T084913
CREATED:20221218T081415Z
LAST-MODIFIED:20240531T105236Z
UID:3662-1671321600-1671407999@pezoporoihalandriou.gr
SUMMARY:Σάββατο 18 Δεκεμβρίου 2022: Χριστουγεννιάτικος Χορός
DESCRIPTION:Το Σάββατο στις 17 Δεκεμβρίου θα γιορτάσουμε όλοι μαζί στον Χριστουγεννιάτικο Χορό που διοργανώνει ο σύλλογος μας στο μουσικό μεζεδοπωλείο «Τσατσαράκι». Θα διασκεδάσουμε σε ένα ζεστό περιβάλλον με ζωντανή μουσική και εκλεκτούς μεζέδες.
URL:https://pezoporoihalandriou.gr/event/savvato-18-dekemvriou-xristougenniatikos-xoros/
CATEGORIES:Εκδηλώσεις 2022,Πολιτιστικές Δράσεις
ATTACH;FMTTYPE=image/png:https://pezoporoihalandriou.gr/evripidis/wp-content/uploads/2022/12/chalandri-.png
END:VEVENT
END:VCALENDAR