
BEGIN:VCALENDAR
VERSION:2.0
PRODID:-//Πεζοπόροι Χαλανδρίου &quot;Ευριπίδης&quot; - ECPv6.15.17.1//NONSGML v1.0//EN
CALSCALE:GREGORIAN
METHOD:PUBLISH
X-WR-CALNAME:Πεζοπόροι Χαλανδρίου &quot;Ευριπίδης&quot;
X-ORIGINAL-URL:https://pezoporoihalandriou.gr
X-WR-CALDESC:Πεζοπόροι Χαλανδρίου &quot;Ευριπίδης&quot; - Εκδηλώσεις
REFRESH-INTERVAL;VALUE=DURATION:PT1H
X-Robots-Tag:noindex
X-PUBLISHED-TTL:PT1H
BEGIN:VTIMEZONE
TZID:Europe/Athens
BEGIN:DAYLIGHT
TZOFFSETFROM:+0200
TZOFFSETTO:+0300
TZNAME:EEST
DTSTART:20240331T010000
END:DAYLIGHT
BEGIN:STANDARD
TZOFFSETFROM:+0300
TZOFFSETTO:+0200
TZNAME:EET
DTSTART:20241027T010000
END:STANDARD
BEGIN:DAYLIGHT
TZOFFSETFROM:+0200
TZOFFSETTO:+0300
TZNAME:EEST
DTSTART:20250330T010000
END:DAYLIGHT
BEGIN:STANDARD
TZOFFSETFROM:+0300
TZOFFSETTO:+0200
TZNAME:EET
DTSTART:20251026T010000
END:STANDARD
BEGIN:DAYLIGHT
TZOFFSETFROM:+0200
TZOFFSETTO:+0300
TZNAME:EEST
DTSTART:20260329T010000
END:DAYLIGHT
BEGIN:STANDARD
TZOFFSETFROM:+0300
TZOFFSETTO:+0200
TZNAME:EET
DTSTART:20261025T010000
END:STANDARD
END:VTIMEZONE
BEGIN:VEVENT
DTSTART;TZID=Europe/Athens:20250809T070000
DTEND;TZID=Europe/Athens:20250811T170000
DTSTAMP:20260420T103042
CREATED:20250710T190158Z
LAST-MODIFIED:20250710T190158Z
UID:5454-1754722800-1754931600@pezoporoihalandriou.gr
SUMMARY:Πεζοπορικό Τριήμερο στον Σμόλικα
DESCRIPTION:Κόνιτσα – Δρακόλιμνη – Κορυφή Γέρος (2637μ) – Καταρράκτες Μπάλντα Ντι Στρίγκα \nΟ Σμόλικας\, το δεύτερο ψηλότερο βουνό της Ελλάδας\, μας περιμένει να το ανακαλύψουμε μέσα από ένα τριήμερο γεμάτο φυσική ομορφιά και δυνατές συγκινήσεις! Ο Σμόλικας είναι ένα από τα πιο μαγικά και συναρπαστικά βουνά της χώρας μας. Το σπάνιο για τα ελληνικά δεδομένα αλπικό οικοσύστημα του και τα «άγνωστα» καταπράσινα χωριά στις απότομες πλαγιές\, συνθέτουν το σκηνικό αυτού του αινιγματικού βουνού που δεσπόζει αγέρωχο στην βορειοδυτική Ελλάδα. Με αφετηρία την γραφική Κόνιτσα\, θα εξερευνήσουμε τα κρυμμένα μυστικά αυτού του θρυλικού βουνού: την θρυλική Δρακόλιμνη και την κορυφή Γέρος\, με τις απίστευτες πανοραμικές θέες\, ενώ θα επισκεφθούμε και τους εντυπωσιακούς καταρράκτες Μπάλντα Ντι Στρίγκα. \n🗓️ Πρόγραμμα Τριημέρου \n🔹 1η Ημέρα – Σάββατο 9 Αυγούστου \n\n6:45: Συνάντηση στο σταθμό μετρό Χαλάνδρι\n7:00: Αναχώρηση για Ιωάννινα\nΦαγητό και ξεκούραση στην όμορφη πόλη των Ιωαννίνων\nΜετακίνηση στην Κόνιτσα και τακτοποίηση στον ξενώνα «Άρτεμις» πού θα είναι η βάση μας για αυτό το τριήμερο.\n🥾 Απογευματινή πεζοπορία στη Χαράδρα του Αώου.\nΔιαδρομή: 10\,5 χλμ\, Υψομετρική 650μ\, Διάρκεια 3 ώρες\, Βαθμός δυσκολίας 1+\n\nℹ️Λεπτομέρειες: \nΗ πανέμορφη διαδρομή ξεκινά από το περίφημο μονότοξο γεφύρι της Κόνιτσας και ολοκληρώνεται στο ίδιο σημείο\, πεζοπορόντας μέσα σε ένα μαγευτικό τοπίο\, με θέα το όρος Τύμφη και την κορυφή Γκαμήλα στα νότια και το όρος Τραπεζίτσα στο βορρά. Το μονοπάτι κινείται ήπια ανηφορικά από την κοίτη του ποταμού\, είναι ευκρινές και σηματοδοτημένο. Το δάσος σε αυτό το σημείο αποτελείται από φυλλοβόλα δέντρα ενώ συναντούμε και δασική πεύκη.  \n🔹 2η Ημέρα – Κυριακή 10 Αυγούστου \n\nΑναχώρηση για Κεράσοβο (Αγία Παρασκευή)\nΠεζοπορία στο εθνικό μονοπάτι Ο3 προς τη Δρακόλιμνη Σμόλικα (υψόμετρο 2150μ)\nΠροαιρετική ανάβαση στην κορυφή Γέρος (2637μ) – η δεύτερη ψηλότερη κορυφή της Ελλάδας\nΕπιστροφή στο Κεράσοβο\nΔιαδρομή συνολικά: 21 χλμ (μέχρι Δρακόλιμνη 16 χλμ)\nΥψομετρική: 1650μ (μέχρι Δρακόλιμνη 1100μ)\nΔιάρκεια: 9 ώρες\nΒαθμός δυσκολίας: 3\n\nℹ️Λεπτομέρειες: \nΤο Κεράσοβο ή Αγία Παρασκευή είναι ένα πανέμορφo ορεινό κεφαλοχώρι. Είναι χτισμένο στις βορειοδυτικές πλαγιές του Σμόλικα\, σε υψόμετρο 970μ. Θα μας εντυπωσιάσουν τα τοπία με την ανέγγιχτη φυσική ομορφιά τους και τα άφθονα νερά. Από εκεί θα ξεκινήσουμε την πεζοπορία μας για την Δρακόλιμνη και της κορυφή του Σμόλικα στα 2637μ. Το μονοπάτι αποτελεί κομμάτι του εθνικού μονοπατιού Ο3\, είναι πολύ καλά σηματοδοτημένο και οδηγεί ομαλά\, μέσα από το καταπληκτικό δάσος. Το μονοπάτι επίσης περνά διαδοχικά από τον Προφήτη Ηλία\, την ρεματιά Κούτσουρα και τις τοποθεσίες Πευκόφυτα και Κούτσουρο. Διασχίζει δάση μαυρόπευκου\, ελάτου και πιο ψηλά ρόμπολου για να  καταλήξει ύστερα στη Δρακόλιμνη. \nΗ δρακόλιμνη του Σμόλικα ή Λύγκα όπως αλλιώς λέγεται βρίσκεται σε υψόμετρο 2150 μέτρων κάτω από τον κώνο που σχηματίζει η κορυφή του Σμόλικα. Έχει έκταση 3 με 4 στρέμματα και μεγάλο βάθος. Έχει σχήμα καρδιάς και ο πυθμένας της κοκκινίζει\, ενώ στα νερά της κολυμπούν τρίτωνες. Πανέμορφη με βιόλες\, ορχιδέες\, αγριομενεξέδες\, σαξιφραγκιές και κρίνους στις παραλίμνιες περιοχές\, νομίζει κανείς ότι βρίσκεται σε αλπικό τοπίο. Μια εικόνα μαγική\,  που θα μείνει για πάντα χαραγμένη στο μυαλό. Όσοι θέλουν μπορούν να συνεχίσουν την αναβαση μέχρι την κορυφή του Σμόλικα. Η διαδρομή έχει έντονα ανηφορική κλίση μέχρι την κορυφή Γέρος στα 2637μ υψόμετρο. Επιστροφή από το ίδιο μονοπάτι μέχρι το Κεράσοβο. \n🔹 3η Ημέρα – Δευτέρα 11 Αυγούστου \n\nΜεταφορά στο χωριό Ηλιοχώρι\, Δήμος Ζαγορίου\nΠεζοπορία στους μαγευτικούς καταρράκτες Μπάλντα Ντι Στρίγκα\nΔιαδρομή 1 χλμ (εύκολη πεζοπορία 20 λεπτών) σε πυκνό δάσος με κρυστάλλινα νερά και φυσική ομορφιά\nΕπιστροφή στην Αθήνα το απόγευμα\n\nℹ️Λεπτομέρειες: \nΤο Ηλιοχώρι είναι ορεινό χωριό του Δήμου Ζαγορίου. Εκεί\, σε ενα υπέροχο μέρος με μοναδική ομορφιά\, βρίσκονται οι καταρράκτες Μπάλντα Ντι Στριγκα. Ένας παράδεισος κρυμμένος στη καρδιά της Ηπείρου. Οι καταρράκτες βρίσκονται μόλις ένα χιλιόμετρο από το χωριό στα παγωμένα νερά του  Κρυοπόταμου και σε υψόμετρο 780 μέτρων. Πρόκειται για τρεις καταρράκτες στην ουσία\, αλλά αυτός που κλέβει την παράσταση είναι ο μεγάλος\, που τα παγωμένα του νερά πέφτουν από 25 μέτρα ύψος δημιουργώντας μεγάλες πισίνες στη βάση του με βάθος που ξεπερνάει τα 5 μέτρα. Το μονοπάτι για τους καταρράκτες έχει μήκος ένα χιλιόμετρο και μπορεί κάποιος με χαλαρό περπάτημα να φτάσει σε 20 περίπου λεπτά. Μέσα σε ένα καταπράσινο τοπίο με πυκνό δάσος και αναρριχόμενα φυτά θα  απολαύσουμε τη μαγεία της φύσης\, εκεί που η ανθρώπινη παρέμβαση απουσιάζει. \nℹ️ Σημαντικές Πληροφορίες \n🏠 Διαμονή στον παραδοσιακό ξενώνα «Άρτεμις» στην Κόνιτσα \n🧭 Απαραίτητος ορειβατικός εξοπλισμός \n📌 Η δράση του συλλόγου απευθύνεται σε ατομα με πολύ καλή φυσική κατάσταση και εμπειρία στο ορεινό πεδίο.
URL:https://pezoporoihalandriou.gr/event/pezoporiko-triimero-smolikas/
CATEGORIES:Εκδηλώσεις 2025,Ομάδα Κορυφών
ATTACH;FMTTYPE=image/jpeg:https://pezoporoihalandriou.gr/evripidis/wp-content/uploads/2025/07/ΣΜΟΛΙΚΑΣ-ΔΡΑΚΟΛΙΜΝΗ-3.jpg
END:VEVENT
END:VCALENDAR