
BEGIN:VCALENDAR
VERSION:2.0
PRODID:-//Πεζοπόροι Χαλανδρίου &quot;Ευριπίδης&quot; - ECPv6.15.17.1//NONSGML v1.0//EN
CALSCALE:GREGORIAN
METHOD:PUBLISH
X-ORIGINAL-URL:https://pezoporoihalandriou.gr
X-WR-CALDESC:Πεζοπόροι Χαλανδρίου &quot;Ευριπίδης&quot; - Εκδηλώσεις
REFRESH-INTERVAL;VALUE=DURATION:PT1H
X-Robots-Tag:noindex
X-PUBLISHED-TTL:PT1H
BEGIN:VTIMEZONE
TZID:Europe/Athens
BEGIN:DAYLIGHT
TZOFFSETFROM:+0200
TZOFFSETTO:+0300
TZNAME:EEST
DTSTART:20220327T010000
END:DAYLIGHT
BEGIN:STANDARD
TZOFFSETFROM:+0300
TZOFFSETTO:+0200
TZNAME:EET
DTSTART:20221030T010000
END:STANDARD
BEGIN:DAYLIGHT
TZOFFSETFROM:+0200
TZOFFSETTO:+0300
TZNAME:EEST
DTSTART:20230326T010000
END:DAYLIGHT
BEGIN:STANDARD
TZOFFSETFROM:+0300
TZOFFSETTO:+0200
TZNAME:EET
DTSTART:20231029T010000
END:STANDARD
BEGIN:DAYLIGHT
TZOFFSETFROM:+0200
TZOFFSETTO:+0300
TZNAME:EEST
DTSTART:20240331T010000
END:DAYLIGHT
BEGIN:STANDARD
TZOFFSETFROM:+0300
TZOFFSETTO:+0200
TZNAME:EET
DTSTART:20241027T010000
END:STANDARD
END:VTIMEZONE
BEGIN:VEVENT
DTSTART;TZID=Europe/Athens:20230402T000000
DTEND;TZID=Europe/Athens:20230402T000000
DTSTAMP:20260419T191806
CREATED:20230402T161909Z
LAST-MODIFIED:20240531T112550Z
UID:198-1680393600-1680393600@pezoporoihalandriou.gr
SUMMARY:Κυριακή 2 Απριλίου 2023: Πεζοπορία στην Παύλιανη
DESCRIPTION:Θα ξεκινήσουμε την πεζοπορία μας από το καταφύγιο της Οίτης\, στην καρδιά του επιβλητικού ελατοδάσους\,ακολουθώντας ένα μονοπάτι με φανταστική θέα και θα καταλήξουμε στο ψυχαγωγικό πάρκο της Παύλιανης. \nΌσοι από τους φίλους μας δεν συμμετέχουν στην πεζοπορία\, μπορούν να απολαύσουν τις ομορφιές του πάρκου\, το οποίο κρύβει ευχάριστες εκπλήξεις για μικρούς και μεγάλους όπως αιώρες και   κούνιες   που   αιωρούνται   πάνω   από   το   ποτάμι\,   γήπεδο   βόλεϊ\, μπάσκετ\, τραμπολίνα \, δεντρόσπιτα\,  κ.α. Από τις πιο ξεχωριστές και πρωτότυπες εμπειρίες είναι το πέρασμα με χειροκίνητο τελεφερίκ (τροχαλία) πάνω από τον ποταμό. \nΗ εκδρομή θα ολοκληρωθεί με πικ-νικ κάτω από τα έλατα του πάρκου. Εναλλακτικά\, οι ταβέρνες της Άνω & Κάτω Παύλιανης φημίζονται για το εξαιρετικό φαγητό τους. \nΠληροφορίες Διαδρομής :\nΑπόσταση Πεζοπορίας: 7\,5 χλμ\nΒαθμός Δυσκολίας : 1\nΘετική υψομετρική : 320 μ.\nΏρες πορείας: 3 – 3\,5 ώρες μαζί με τις στάσεις.
URL:https://pezoporoihalandriou.gr/event/kyriaki-2-apriliou-2023-pezoporia-stin-payliani/
CATEGORIES:Εκδηλώσεις 2023,Πεζοπορικές διαδρομές
ATTACH;FMTTYPE=image/jpeg:https://pezoporoihalandriou.gr/evripidis/wp-content/uploads/2023/04/3.jpg
END:VEVENT
END:VCALENDAR