
BEGIN:VCALENDAR
VERSION:2.0
PRODID:-//Πεζοπόροι Χαλανδρίου &quot;Ευριπίδης&quot; - ECPv6.15.20//NONSGML v1.0//EN
CALSCALE:GREGORIAN
METHOD:PUBLISH
X-WR-CALNAME:Πεζοπόροι Χαλανδρίου &quot;Ευριπίδης&quot;
X-ORIGINAL-URL:https://pezoporoihalandriou.gr
X-WR-CALDESC:Πεζοπόροι Χαλανδρίου &quot;Ευριπίδης&quot; - Εκδηλώσεις
REFRESH-INTERVAL;VALUE=DURATION:PT1H
X-Robots-Tag:noindex
X-PUBLISHED-TTL:PT1H
BEGIN:VTIMEZONE
TZID:Europe/Athens
BEGIN:DAYLIGHT
TZOFFSETFROM:+0200
TZOFFSETTO:+0300
TZNAME:EEST
DTSTART:20190331T010000
END:DAYLIGHT
BEGIN:STANDARD
TZOFFSETFROM:+0300
TZOFFSETTO:+0200
TZNAME:EET
DTSTART:20191027T010000
END:STANDARD
BEGIN:DAYLIGHT
TZOFFSETFROM:+0200
TZOFFSETTO:+0300
TZNAME:EEST
DTSTART:20200329T010000
END:DAYLIGHT
BEGIN:STANDARD
TZOFFSETFROM:+0300
TZOFFSETTO:+0200
TZNAME:EET
DTSTART:20201025T010000
END:STANDARD
BEGIN:DAYLIGHT
TZOFFSETFROM:+0200
TZOFFSETTO:+0300
TZNAME:EEST
DTSTART:20210328T010000
END:DAYLIGHT
BEGIN:STANDARD
TZOFFSETFROM:+0300
TZOFFSETTO:+0200
TZNAME:EET
DTSTART:20211031T010000
END:STANDARD
END:VTIMEZONE
BEGIN:VEVENT
DTSTART;VALUE=DATE:20200126
DTEND;VALUE=DATE:20200127
DTSTAMP:20260425T071153
CREATED:20200126T212656Z
LAST-MODIFIED:20240531T104354Z
UID:3614-1579996800-1580083199@pezoporoihalandriou.gr
SUMMARY:Κυριακή 26 Ιανουαρίου 2020: Κοπή Πρωτοχρονιάτικης Πίτας
DESCRIPTION:Την εκδήλωση τίμησαν με την παρουσία τους: ο Δήμαρχος Χαλανδρίου κ. Σίμος Ρούσσος\, ο Πρόεδρος του Δημοτικού Συμβουλίου κ. Γεράσιμος Λιμπεράτος\, ο Αντιδήμαρχος Πολιτισμού κ. Σέργιος Γκάκας\, ο Αντιδήμαρχος Αθλητισμού – Εξυπηρέτησης Πολιτών κ. Χάρης Μαυρουδής\, ο επικεφαλής της παράταξης «Χαλάνδρι σε Δράση» κ. Γιώργος Κουράσης\, ο επικεφαλής της παράταξης «Χαλάνδρι Ορίζοντας 2023» κ. Μάνος Κρανίδης\, ο δημοτικός σύμβουλος και εκπρόσωπος της παράταξης «Λαϊκή Συσπείρωση Χαλανδρίου» κ. Ανδρέας Οικονόμου\, η δημοτική σύμβουλος και εκπρόσωπος της παράταξης «Μένω στο Χαλάνδρι» κα Τάνια Καραγιάννη\, οι δημοτικοί σύμβουλοι κ. Κώστας Αγγελής\, κ. Γιάννης Αντωνιάδης\, κ. Γιώργος Θέος\, κα Ευγενία Κατούφα\, κ. Θάνος Τσιαμπάς καθώς και εκπρόσωποι του Συλλόγου Προστασίας Περιβάλλοντος &  Ρεματιάς Πεντέλης-Χαλανδρίου και του Σώματος Εθελοντών Χαλανδρίου. \nΟ Πρόεδρος καλωσόρισε τους παρευρισκόμενους/ες\, και ευχήθηκε σε όλους καλή χρονιά με υγεία\, δύναμη και αισιοδοξία. Αναφέρθηκε στο όραμα\, τους σκοπούς και τις δράσεις του Συλλόγου Πεζοπόρων\, όπως την συστηματική καλλιέργεια της επαφής με την φύση\,  την διάδοση της ορεινής πεζοπορίας\,  ορειβασίας\, αναρρίχησης και ποδηλασίας\, την εκμάθηση μορφών επιβίωσης στο φυσικό περιβάλλον\, την διαφύλαξη της φυσικής μας κληρονομιάς και την προστασία του περιβάλλοντος. \nΤην εκδήλωση χαιρέτησαν ο Δήμαρχος Χαλανδρίου καθώς και οι επικεφαλής  και οι εκπρόσωποι των δημοτικών παρατάξεων που παρευρέθηκαν\, δηλώνοντας την στήριξη τους στις δράσεις του συλλόγου μας\, και στους οποίους δόθηκαν συμβολικά δώρα μαζί με τις ευχές του Διοικητικού Συμβουλίου των Πεζοπόρων Χαλανδρίου για μια καλή και δημιουργική χρονιά στη πόλη μας. \nΤο φλουρί της πίτας του Διοικητικού Συμβουλίου κέρδισε ο Δήμαρχος Χαλανδρίου κ. Σίμος Ρούσσος\, ο οποίος δήλωσε με ιδιαίτερη συγκίνηση ότι ήταν η πρώτη φορά που του έπεφτε το τυχερό φλουρί σε κοπή Βασιλόπιτας. Όλοι του ευχήθηκαν «καλή τύχη» για τη νέα χρονιά. Επίσης\, άλλοι 6 τυχεροί κέρδισαν φλουρία μαζί με δώρα\, προσφορά του Συλλόγου και των χορηγών μας.
URL:https://pezoporoihalandriou.gr/event/ianouarios-2020/
CATEGORIES:Εκδηλώσεις 2020,Πολιτιστικές Δράσεις
END:VEVENT
END:VCALENDAR