
BEGIN:VCALENDAR
VERSION:2.0
PRODID:-//Πεζοπόροι Χαλανδρίου &quot;Ευριπίδης&quot; - ECPv6.15.20//NONSGML v1.0//EN
CALSCALE:GREGORIAN
METHOD:PUBLISH
X-ORIGINAL-URL:https://pezoporoihalandriou.gr
X-WR-CALDESC:Πεζοπόροι Χαλανδρίου &quot;Ευριπίδης&quot; - Εκδηλώσεις
REFRESH-INTERVAL;VALUE=DURATION:PT1H
X-Robots-Tag:noindex
X-PUBLISHED-TTL:PT1H
BEGIN:VTIMEZONE
TZID:Europe/Athens
BEGIN:DAYLIGHT
TZOFFSETFROM:+0200
TZOFFSETTO:+0300
TZNAME:EEST
DTSTART:20240331T010000
END:DAYLIGHT
BEGIN:STANDARD
TZOFFSETFROM:+0300
TZOFFSETTO:+0200
TZNAME:EET
DTSTART:20241027T010000
END:STANDARD
BEGIN:DAYLIGHT
TZOFFSETFROM:+0200
TZOFFSETTO:+0300
TZNAME:EEST
DTSTART:20250330T010000
END:DAYLIGHT
BEGIN:STANDARD
TZOFFSETFROM:+0300
TZOFFSETTO:+0200
TZNAME:EET
DTSTART:20251026T010000
END:STANDARD
BEGIN:DAYLIGHT
TZOFFSETFROM:+0200
TZOFFSETTO:+0300
TZNAME:EEST
DTSTART:20260329T010000
END:DAYLIGHT
BEGIN:STANDARD
TZOFFSETFROM:+0300
TZOFFSETTO:+0200
TZNAME:EET
DTSTART:20261025T010000
END:STANDARD
END:VTIMEZONE
BEGIN:VEVENT
DTSTART;VALUE=DATE:20250323
DTEND;VALUE=DATE:20250324
DTSTAMP:20260422T193407
CREATED:20250313T202119Z
LAST-MODIFIED:20250313T202915Z
UID:5329-1742688000-1742774399@pezoporoihalandriou.gr
SUMMARY:Πεζοπορία στα «Υπόγεια Παλάτια» του  Νότιου Υμηττού
DESCRIPTION:Την Κυριακή 23 Μαρτίου θα επισκεφτούμε για ακόμη μια φορά «υπόγεια παλάτια» του νότιου Υμηττού\, στα βόρεια της Βάρης και θα επισκεφθούμε το Σπήλαιο Νυμφολήπτου\, γνωστό και ως σπήλαιο Πανός\, και το Σπήλαιο Σαλίγκαρος. \nΗ πεζοπορία μας θα ξεκινήσει στις 09:30 π.μ. από το κοιμητήριο της Βούλας (Άνω Βούλα). Θα περάσουμε πρώτα από το σπήλαιο Θρακιά Συκιάς. Στην πορεία μας θα συναντήσουμε και το μνημείο των δύο Πυροσβεστών που έχασαν τη ζωή τους στο βωμό του καθήκοντος. Το συμβάν συνέβη στις 15 Ιουλίου του 1999. \nΣτη συνέχεια θα επισκεφτούμε το σπήλαιο Νυμφολήπτου ή Αρχέδημου. Θα συνεχίσουμε την πορεία μας και θα βρεθούμε στη νότια πλαγιά του λόφου “Κακαβούλα” του Υμηττού\, σε υψόμετρο 280 μέτρων. Εκεί θα γνωρίσουμε το σπήλαιο Κακαβούλας ή αλλιώς Σαλίγκαρος. \nΠρόκειται για μια διαδρομή κυκλική και εύκολη\, η οποία ενδείκνυται για αρχάριους. \nΠληροφορίες Διαδρομής: \nΑπόσταση Πεζοπορίας: 7 χλμ\nΒαθμός Δυσκολίας: 1\nΘετική υψομετρική: 260 μ.\nΑρνητική υψομετρική:\nΏρες πορείας: 3 – 3\,30 με την επίσκεψη στα σπήλαια και ανάλογα με τον ρυθμό της ομάδας \nΛΙΓΑ ΛΟΓΙΑ ΓΙΑ ΤΑ ΣΠΗΛΑΙΑ ΠΟΥ ΘΑ ΔΟΥΜΕ: \n\nΣπήλαιο Θρακιά Συκιάς:  Πρόκειται για ένα μεγάλο σπήλαιο του οποίου η οροφή κατέρρευσε μετατρέποντάς το σε βάραθρο με εντυπωσιακές διαστάσεις. Έχει ιδιαίτερα υπέροχο σταλαγμιτικό διάκοσμο στα τοιχώματα\, καθώς και δύο μεγάλους σταλακτιτικούς καταρράκτες.\nΣπήλαιο Νυμφολήπτου ή Αρχέδημου: Στην αρχαιότητα ήταν ιερό των Νυμφών του Απόλλωνα και του Πάνα. Το σπήλαιο Νυμφολήπτου είναι ένας από τους σημαντικότερους αρχαιολογικούς χώρους\, όπου τα πρώτα ίχνη κατοίκησης του χρονολογούνται από τον 6ο αιώνα π.Χ. Έχει μικρό σπηλαιοβάραθρο με στενό άνοιγμα και μία κύρια αίθουσα. Το εσωτερικό του είναι διακοσμημένο από τον Θηραίο γλύπτη Αρχέδημο του 5ου αιώνα π.χ.\, ο οποίος το διακόσμησε και σκάλισε σκαλοπάτια\, επιγραφές και ανάγλυφα. Επίσης\, υπάρχουν διάφορες αρχαιοελληνικές επιγραφές\, αναθηματικές κόγχες και βωμοί αφιερωμένοι στον Πάνα και τις νύμφες του.\nΣπήλαιο Κακαβούλας ή αλλιώς Σαλίγκαρος: Η πτώση μέρους της οροφής του έχει δημιουργήσει ένα ορατό βαθούλωμα 8 μέτρων στο έδαφος πάνω από την σπηλιά\, όπως και 2 ακόμα εισόδους. Στην σπηλιά βρίσκονται αρκετές σταλαγμιτικές κολώνες\, ορισμένες από τις οποίες υποστηρίζουν τμήμα της οροφής που έχει ριγματωθεί και επιτρέπει στο φυσικό φως να εισέρθει σε μεγάλο βάθος δημιουργώντας όμορφα χρωματικά παιχνίδια με τους σταλαγμίτες και τους σταλακτίτες.\n\nΏρα εκκίνησης της πεζοπορίας και σημείο συνάντησης: στις 09:30 π.μ. από το κοιμητήριο Βούλας \nΕπίσης\, για όσους θέλουν\, θα συναντηθούμε στις 08:15 π.μ. με τα αυτοκίνητα μας στο Σταθμό Μετρό Χαλανδρίου για να ξεκινήσουμε για το κοιμητήριο της Βούλας. \nΕξοπλισμός : Καλή διάθεση και κέφι!!! \nΠεζοπορικά μποτάκια\, σακίδιο πλάτης\, μπαστούνια πεζοπορίας\, νερό\, σνακ για ενέργεια\, σφυρίχτρα\, ατομικό φαρμακείο.
URL:https://pezoporoihalandriou.gr/event/pezoporia-sta-ypogeia-palatia-notios-ymittos/
LOCATION:Υμηττος\, Κοιμητήριο Βούλας - Βούλα\, Βούλα\, Greece
CATEGORIES:Εκδηλώσεις 2025,Πεζοπορικές διαδρομές
ATTACH;FMTTYPE=image/jpeg:https://pezoporoihalandriou.gr/evripidis/wp-content/uploads/2025/03/ΣΠΗΛΑΙΟ.jpg
END:VEVENT
END:VCALENDAR