
BEGIN:VCALENDAR
VERSION:2.0
PRODID:-//Πεζοπόροι Χαλανδρίου &quot;Ευριπίδης&quot; - ECPv6.15.20//NONSGML v1.0//EN
CALSCALE:GREGORIAN
METHOD:PUBLISH
X-ORIGINAL-URL:https://pezoporoihalandriou.gr
X-WR-CALDESC:Πεζοπόροι Χαλανδρίου &quot;Ευριπίδης&quot; - Εκδηλώσεις
REFRESH-INTERVAL;VALUE=DURATION:PT1H
X-Robots-Tag:noindex
X-PUBLISHED-TTL:PT1H
BEGIN:VTIMEZONE
TZID:Europe/Athens
BEGIN:DAYLIGHT
TZOFFSETFROM:+0200
TZOFFSETTO:+0300
TZNAME:EEST
DTSTART:20180325T010000
END:DAYLIGHT
BEGIN:STANDARD
TZOFFSETFROM:+0300
TZOFFSETTO:+0200
TZNAME:EET
DTSTART:20181028T010000
END:STANDARD
BEGIN:DAYLIGHT
TZOFFSETFROM:+0200
TZOFFSETTO:+0300
TZNAME:EEST
DTSTART:20190331T010000
END:DAYLIGHT
BEGIN:STANDARD
TZOFFSETFROM:+0300
TZOFFSETTO:+0200
TZNAME:EET
DTSTART:20191027T010000
END:STANDARD
BEGIN:DAYLIGHT
TZOFFSETFROM:+0200
TZOFFSETTO:+0300
TZNAME:EEST
DTSTART:20200329T010000
END:DAYLIGHT
BEGIN:STANDARD
TZOFFSETFROM:+0300
TZOFFSETTO:+0200
TZNAME:EET
DTSTART:20201025T010000
END:STANDARD
END:VTIMEZONE
BEGIN:VEVENT
DTSTART;VALUE=DATE:20191117
DTEND;VALUE=DATE:20191118
DTSTAMP:20260424T164801
CREATED:20191117T072517Z
LAST-MODIFIED:20240930T201207Z
UID:3623-1573948800-1574035199@pezoporoihalandriou.gr
SUMMARY:Πεζοπορία στην Δίρφη - Στενή Ευβοίας
DESCRIPTION:Τα μέλη του συλλόγου μας έζησαν μια πανέμορφη εμπειρία πεζοπορώντας στο πανέμορφο βουνό της Δίρφης \nΗ οροσειρά της Δίρφυς αποτελεί το υψηλότερο νησιωτικό βουνό\, με την κορυφή Δίρφη να φτάνει στα 1170 μέτρα. Μόλις 1\,5 ώρα από την Αθήνα\, το βουνό της Δίρφυς στην Εύβοια\, είναι μια εξαιρετική επιλογή για εκδρομή\,ορειβασία και παιχνίδια στο χιόνι. Αρχικός προορισμός μας η Στενή Ευβοίας\, ένα μικρό ήσυχο χωριό στους πρόποδες του όρους Δίρφυς. Περπατήσαμε σε ένα όμορφο και πυκνό ελατόδασος\, το δάσος της Δίρφυς\, το οποίο σε οδηγεί στο όμορφο καταφύγιο “Μιχάλης Νικολάου” \nΣτο τέλος ήπιαμε καφέ και φάγαμε στις γραφικές ταβέρνες της Στενής.
URL:https://pezoporoihalandriou.gr/event/kyriaki-17-noemvriou-2019-pezoporia-stin-dirfi-steni-evvoias/
CATEGORIES:Εκδηλώσεις 2019,Πεζοπορικές διαδρομές
END:VEVENT
END:VCALENDAR