
BEGIN:VCALENDAR
VERSION:2.0
PRODID:-//Πεζοπόροι Χαλανδρίου &quot;Ευριπίδης&quot; - ECPv6.15.20//NONSGML v1.0//EN
CALSCALE:GREGORIAN
METHOD:PUBLISH
X-ORIGINAL-URL:https://pezoporoihalandriou.gr
X-WR-CALDESC:Πεζοπόροι Χαλανδρίου &quot;Ευριπίδης&quot; - Εκδηλώσεις
REFRESH-INTERVAL;VALUE=DURATION:PT1H
X-Robots-Tag:noindex
X-PUBLISHED-TTL:PT1H
BEGIN:VTIMEZONE
TZID:Europe/Athens
BEGIN:DAYLIGHT
TZOFFSETFROM:+0200
TZOFFSETTO:+0300
TZNAME:EEST
DTSTART:20230326T010000
END:DAYLIGHT
BEGIN:STANDARD
TZOFFSETFROM:+0300
TZOFFSETTO:+0200
TZNAME:EET
DTSTART:20231029T010000
END:STANDARD
BEGIN:DAYLIGHT
TZOFFSETFROM:+0200
TZOFFSETTO:+0300
TZNAME:EEST
DTSTART:20240331T010000
END:DAYLIGHT
BEGIN:STANDARD
TZOFFSETFROM:+0300
TZOFFSETTO:+0200
TZNAME:EET
DTSTART:20241027T010000
END:STANDARD
BEGIN:DAYLIGHT
TZOFFSETFROM:+0200
TZOFFSETTO:+0300
TZNAME:EEST
DTSTART:20250330T010000
END:DAYLIGHT
BEGIN:STANDARD
TZOFFSETFROM:+0300
TZOFFSETTO:+0200
TZNAME:EET
DTSTART:20251026T010000
END:STANDARD
END:VTIMEZONE
BEGIN:VEVENT
DTSTART;TZID=Europe/Athens:20241218T183000
DTEND;TZID=Europe/Athens:20241218T203000
DTSTAMP:20260420T162450
CREATED:20241215T213813Z
LAST-MODIFIED:20241215T214125Z
UID:5156-1734546600-1734553800@pezoporoihalandriou.gr
SUMMARY:Συλλέγουμε τρόφιμα και είδη Α’ Ανάγκης
DESCRIPTION:Συλλέγουμε τρόφιμα και είδη Α’ Ανάγκης για το Φιλανθρωπικό Σωματείο Εστία Κοριτσιού «Φιλοθέη η Αθηναία» \nΟ Σύλλογος μας εκφράζοντας έμπρακτα την αλληλεγγύη του θα βοηθήσει και φέτος τα κορίτσια που φιλοξενούνται και μεγαλώνουν στο φιλανθρωπικό σωματείο Εστία Κοριτσιού «Φιλοθέη η Αθηναία». Τα έσοδα από τον Χριστουγεννιάτικο χορό του Συλλόγου μας θα διατεθούν για την ενίσχυση του σωματείου. Παράλληλα\, την Τετάρτη 18 Δεκεμβρίου το απόγευμα από τις 18:30 μ.μ. έως τις 20:30 μ.μ. μαζεύουμε τρόφιμα και ήδη Α΄ ανάγκης στα γραφεία του συλλόγου μας Καρελλά 22\, Συνοικισμός Χαλανδρίου. \nΠροσκαλούμε όλα τα μέλη και τους φίλους του συλλόγου μας να συμμετέχουν σε αυτή τη δράση αλληλεγγύης και να προσφέρουμε λίγη από την μαγεία των Χριστουγέννων σε ανθρώπους που έχουν πραγματικά ανάγκη!!! \n 
URL:https://pezoporoihalandriou.gr/event/sillegoume-trofima/
CATEGORIES:Εκδηλώσεις 2025,Κοινωνικές Δράσεις - Φιλανθρωπικό Έργο
ATTACH;FMTTYPE=image/jpeg:https://pezoporoihalandriou.gr/evripidis/wp-content/uploads/2024/12/ΤΡΟΦΙΜΑ-2.jpg
END:VEVENT
END:VCALENDAR