
BEGIN:VCALENDAR
VERSION:2.0
PRODID:-//Πεζοπόροι Χαλανδρίου &quot;Ευριπίδης&quot; - ECPv6.15.20//NONSGML v1.0//EN
CALSCALE:GREGORIAN
METHOD:PUBLISH
X-ORIGINAL-URL:https://pezoporoihalandriou.gr
X-WR-CALDESC:Πεζοπόροι Χαλανδρίου &quot;Ευριπίδης&quot; - Εκδηλώσεις
REFRESH-INTERVAL;VALUE=DURATION:PT1H
X-Robots-Tag:noindex
X-PUBLISHED-TTL:PT1H
BEGIN:VTIMEZONE
TZID:Europe/Athens
BEGIN:DAYLIGHT
TZOFFSETFROM:+0200
TZOFFSETTO:+0300
TZNAME:EEST
DTSTART:20210328T010000
END:DAYLIGHT
BEGIN:STANDARD
TZOFFSETFROM:+0300
TZOFFSETTO:+0200
TZNAME:EET
DTSTART:20211031T010000
END:STANDARD
BEGIN:DAYLIGHT
TZOFFSETFROM:+0200
TZOFFSETTO:+0300
TZNAME:EEST
DTSTART:20220327T010000
END:DAYLIGHT
BEGIN:STANDARD
TZOFFSETFROM:+0300
TZOFFSETTO:+0200
TZNAME:EET
DTSTART:20221030T010000
END:STANDARD
BEGIN:DAYLIGHT
TZOFFSETFROM:+0200
TZOFFSETTO:+0300
TZNAME:EEST
DTSTART:20230326T010000
END:DAYLIGHT
BEGIN:STANDARD
TZOFFSETFROM:+0300
TZOFFSETTO:+0200
TZNAME:EET
DTSTART:20231029T010000
END:STANDARD
END:VTIMEZONE
BEGIN:VEVENT
DTSTART;VALUE=DATE:20220702
DTEND;VALUE=DATE:20220706
DTSTAMP:20260421T201901
CREATED:20220702T065523Z
LAST-MODIFIED:20240524T152624Z
UID:3654-1656720000-1657065599@pezoporoihalandriou.gr
SUMMARY:Σάββατο 2 Ιουλίου - Τρίτη 5 Ιουλίου 2022: Burn in Εικαστική έκθεση 29 καλλιτεχνών στην περιοχή του Συνοικισμού Χαλανδρίου
DESCRIPTION:Ο Σύλλογος μας φιλοξενεί στα γραφεία του\, σε μια ιστορική προσφυγική κατοικία του Συνοικισμού Χαλανδρίου\, μέρος της Εικαστικής Έκθεσης Burn in. Η έκθεση πραγματοποιείται προς τιμήν της συμπλήρωσης των 100 χρόνων από την τραγωδία της Μικρασιατικής Καταστροφής και\, σύμφωνα με τους διοργανωτές\, «αποτελεί κομβική στιγμή για την ιχνηλάτηση του τόπου και της ιστορίας του Συνοικισμού επιτρέποντας νέες αναγνώσεις και ερμηνείες».
URL:https://pezoporoihalandriou.gr/event/savvato-2-iouliou-triti-5-iouliou-burn-in-eikastiki-ekthesi-29-kallitexnon-stin-perioxi-tou-synoikismoy-xalandriou/
CATEGORIES:Εκδηλώσεις 2022,Πολιτιστικές Δράσεις
END:VEVENT
END:VCALENDAR