
BEGIN:VCALENDAR
VERSION:2.0
PRODID:-//Πεζοπόροι Χαλανδρίου &quot;Ευριπίδης&quot; - ECPv6.15.20//NONSGML v1.0//EN
CALSCALE:GREGORIAN
METHOD:PUBLISH
X-WR-CALNAME:Πεζοπόροι Χαλανδρίου &quot;Ευριπίδης&quot;
X-ORIGINAL-URL:https://pezoporoihalandriou.gr
X-WR-CALDESC:Πεζοπόροι Χαλανδρίου &quot;Ευριπίδης&quot; - Εκδηλώσεις
REFRESH-INTERVAL;VALUE=DURATION:PT1H
X-Robots-Tag:noindex
X-PUBLISHED-TTL:PT1H
BEGIN:VTIMEZONE
TZID:Europe/Athens
BEGIN:DAYLIGHT
TZOFFSETFROM:+0200
TZOFFSETTO:+0300
TZNAME:EEST
DTSTART:20190331T010000
END:DAYLIGHT
BEGIN:STANDARD
TZOFFSETFROM:+0300
TZOFFSETTO:+0200
TZNAME:EET
DTSTART:20191027T010000
END:STANDARD
BEGIN:DAYLIGHT
TZOFFSETFROM:+0200
TZOFFSETTO:+0300
TZNAME:EEST
DTSTART:20200329T010000
END:DAYLIGHT
BEGIN:STANDARD
TZOFFSETFROM:+0300
TZOFFSETTO:+0200
TZNAME:EET
DTSTART:20201025T010000
END:STANDARD
BEGIN:DAYLIGHT
TZOFFSETFROM:+0200
TZOFFSETTO:+0300
TZNAME:EEST
DTSTART:20210328T010000
END:DAYLIGHT
BEGIN:STANDARD
TZOFFSETFROM:+0300
TZOFFSETTO:+0200
TZNAME:EET
DTSTART:20211031T010000
END:STANDARD
END:VTIMEZONE
BEGIN:VEVENT
DTSTART;VALUE=DATE:20200531
DTEND;VALUE=DATE:20200601
DTSTAMP:20260424T103245
CREATED:20200531T050432Z
LAST-MODIFIED:20240524T144905Z
UID:3628-1590883200-1590969599@pezoporoihalandriou.gr
SUMMARY:Κυριακή 31 Μαΐου 2020: Πεζοπορία στον Υμηττό
DESCRIPTION:Επισκεφτήκαμε το σπήλαιο του λιονταριού. Στην συνέχεια ανεβήκαμε στην κορυφή Κορακοβούνι όπου θαυμάσαμε την μοναδική πανοραμική θέα και από τις δύο πλευρές του Υμηττού.
URL:https://pezoporoihalandriou.gr/event/kyriaki-31-maiou-2020-pezoporia-ston-ymitto/
CATEGORIES:Εκδηλώσεις 2020,Πεζοπορικές διαδρομές
END:VEVENT
END:VCALENDAR