
BEGIN:VCALENDAR
VERSION:2.0
PRODID:-//Πεζοπόροι Χαλανδρίου &quot;Ευριπίδης&quot; - ECPv6.15.20//NONSGML v1.0//EN
CALSCALE:GREGORIAN
METHOD:PUBLISH
X-WR-CALNAME:Πεζοπόροι Χαλανδρίου &quot;Ευριπίδης&quot;
X-ORIGINAL-URL:https://pezoporoihalandriou.gr
X-WR-CALDESC:Πεζοπόροι Χαλανδρίου &quot;Ευριπίδης&quot; - Εκδηλώσεις
REFRESH-INTERVAL;VALUE=DURATION:PT1H
X-Robots-Tag:noindex
X-PUBLISHED-TTL:PT1H
BEGIN:VTIMEZONE
TZID:Europe/Athens
BEGIN:DAYLIGHT
TZOFFSETFROM:+0200
TZOFFSETTO:+0300
TZNAME:EEST
DTSTART:20220327T010000
END:DAYLIGHT
BEGIN:STANDARD
TZOFFSETFROM:+0300
TZOFFSETTO:+0200
TZNAME:EET
DTSTART:20221030T010000
END:STANDARD
BEGIN:DAYLIGHT
TZOFFSETFROM:+0200
TZOFFSETTO:+0300
TZNAME:EEST
DTSTART:20230326T010000
END:DAYLIGHT
BEGIN:STANDARD
TZOFFSETFROM:+0300
TZOFFSETTO:+0200
TZNAME:EET
DTSTART:20231029T010000
END:STANDARD
BEGIN:DAYLIGHT
TZOFFSETFROM:+0200
TZOFFSETTO:+0300
TZNAME:EEST
DTSTART:20240331T010000
END:DAYLIGHT
BEGIN:STANDARD
TZOFFSETFROM:+0300
TZOFFSETTO:+0200
TZNAME:EET
DTSTART:20241027T010000
END:STANDARD
END:VTIMEZONE
BEGIN:VEVENT
DTSTART;VALUE=DATE:20231217
DTEND;VALUE=DATE:20231218
DTSTAMP:20260421T134435
CREATED:20231217T163405Z
LAST-MODIFIED:20240527T110845Z
UID:3691-1702771200-1702857599@pezoporoihalandriou.gr
SUMMARY:Κυριακή 17 Δεκεμβρίου 2023: Πεζοπορία στον Υμηττό
DESCRIPTION:Θα περπατήσουμε σε μια καταπράσινη διαδρομή στο αισθητικό δάσος του Υμηττού και θα έχουμε την δυνατότητα να δούμε τον Ιερό Ναό Παμμέγιστων Ταξιαρχών\, τον Καθολικό ναό Αγίου Μάρκου-Φραγκομονάστηρο\, την Μονή Καισαριανής\, το φυτώριο του βοτανικού κήπου\, το εκκλησάκι της Αναλήψεως\, τον Πύργο Ανθούσας και την Ιερά Μονή Ταξιαρχών-Αστερίου . Σε αρκετά σημεία της διαδρομής μας θα έχουμε την δυνατότητα να θαυμάσουμε την πανοραμική θέα της Αθήνας. \nΣτο αναψυκτήριο της Καλοπούλας\, κοντά στην αρχαία πηγή της Καλοπούλας\, μπορούμε να κάνουμε ένα διάλειμμα σε ένα όμορφο φυσικό περιβάλλον\, ανάμεσα στα δέντρα. \nΠληροφορίες Διαδρομής :\nΑπόσταση Πεζοπορίας: 8 χλμ\nΒαθμός Δυσκολίας : 1\nΘετική υψομετρική : 360 μ.\nΏρες πορείας: 3\,5 – 4 ώρες μαζί με τις στάσεις ανάλογα με τον ρυθμό της ομάδας
URL:https://pezoporoihalandriou.gr/event/kyriaki-17-dekemvriou-2023-pezoporia-ston-ymitto/
CATEGORIES:Εκδηλώσεις 2023,Πεζοπορικές διαδρομές
ATTACH;FMTTYPE=image/jpeg:https://pezoporoihalandriou.gr/evripidis/wp-content/uploads/2023/12/1712.jpg
END:VEVENT
END:VCALENDAR