
BEGIN:VCALENDAR
VERSION:2.0
PRODID:-//Πεζοπόροι Χαλανδρίου &quot;Ευριπίδης&quot; - ECPv6.15.17.1//NONSGML v1.0//EN
CALSCALE:GREGORIAN
METHOD:PUBLISH
X-ORIGINAL-URL:https://pezoporoihalandriou.gr
X-WR-CALDESC:Πεζοπόροι Χαλανδρίου &quot;Ευριπίδης&quot; - Εκδηλώσεις
REFRESH-INTERVAL;VALUE=DURATION:PT1H
X-Robots-Tag:noindex
X-PUBLISHED-TTL:PT1H
BEGIN:VTIMEZONE
TZID:Europe/Athens
BEGIN:DAYLIGHT
TZOFFSETFROM:+0200
TZOFFSETTO:+0300
TZNAME:EEST
DTSTART:20250330T010000
END:DAYLIGHT
BEGIN:STANDARD
TZOFFSETFROM:+0300
TZOFFSETTO:+0200
TZNAME:EET
DTSTART:20251026T010000
END:STANDARD
BEGIN:DAYLIGHT
TZOFFSETFROM:+0200
TZOFFSETTO:+0300
TZNAME:EEST
DTSTART:20260329T010000
END:DAYLIGHT
BEGIN:STANDARD
TZOFFSETFROM:+0300
TZOFFSETTO:+0200
TZNAME:EET
DTSTART:20261025T010000
END:STANDARD
BEGIN:DAYLIGHT
TZOFFSETFROM:+0200
TZOFFSETTO:+0300
TZNAME:EEST
DTSTART:20270328T010000
END:DAYLIGHT
BEGIN:STANDARD
TZOFFSETFROM:+0300
TZOFFSETTO:+0200
TZNAME:EET
DTSTART:20271031T010000
END:STANDARD
END:VTIMEZONE
BEGIN:VEVENT
DTSTART;VALUE=DATE:20260329
DTEND;VALUE=DATE:20260330
DTSTAMP:20260419T153456
CREATED:20260110T180631Z
LAST-MODIFIED:20260315T195313Z
UID:5749-1774742400-1774828799@pezoporoihalandriou.gr
SUMMARY:3η Διάσχιση Υμηττού
DESCRIPTION:Σας προσκαλούμε σε μια μοναδική πεζοπορική εμπειρία στη ραχοκοκαλιά του Υμηττού! Την Κυριακή 29  Μαρτίου η ομάδα μας θα κάνει την διάσχιση του Υμηττού. Το επιβλητικό βουνό υψώνεται στο ανατολικό όριο του Λεκανοπεδίου\, εκτείνεται σε μήκος 23 χλμ. περίπου\, ενώ το πλάτος του κυμαίνεται από 4 έως 6 χλμ. με ψηλότερη κορφή τον Εύζωνα\, ύψους 1.026 μ. Ο Υμηττός είναι ένα βουνό με πλούσια φυσική ομορφιά και ιστορία. Η ομάδα μας θα πεζοπορήσει σε μια πανέμορφη διαδρομή προσφέροντας μοναδική θέα και επαφή με τη φύση. \nΗ Ομάδα θα περάσει από πολλά όμορφα\, ενδιάμεσα σημεία κατά την πορεία της: \n🛤️ Ενδιάμεσα Σημεία:\n✅ Ορυχεία Φυρέ\n✅ Σπηλιά Νυχτερίδας\n✅ Κορυφή Μικρό Κορακοβούνι\n✅ Κορυφή Μεγάλο Κορακοβούνι\n✅ Διάσελο ΟΤΕ\n✅ Τριγωνομετρικό σημείο Υμηττού\n✅ Πάρκο Κεραιών\n✅ Βάραθρο του Πύργου\n✅ Μνημείο Μιχαηλίδη\n✅ Σέσι\n✅ Διάσελο Σταυρού\n✅ Τρύπια Σπηλιά \n⛰️Πληροφορίες Διαδρομής 🌿: \n🥾 Απόσταση Πεζοπορίας: 22 χλμ\n📏 Βαθμός Δυσκολίας: 3\nΘετική υψομετρική: 1070μ. \n⌛Ώρες πορείας:  08:00- 8:30 ώρες μαζί με τις στάσεις ανάλογα με τον ρυθμό της ομάδας \nΗ δράση ενδείκνυται για ορειβάτες με πολύ καλή φυσική κατάσταση και εμπειρία σε πεζοπορίες σε βουνό🏔. \n📍 Σημείο & ώρα συνάντησης εκκίνησης: Συνάντηση στον σταθμό μετρό της Αγίας Παρασκευής στις 8:00 π.μ. για να μεταβούμε στο σημείο εκκίνησης με αυτοκίνητα. \n📍 Η εκκίνηση θα γίνει από το Μοναστήρι του Αι-Γιάννη Κυνηγού. \n📍 Ο τερματισμός της πεζοπορίας θα είναι στο μετρό της Γλυφάδας. \n🌿 Ελάτε να ανακαλύψουμε μαζί τις ομορφιές του Υμηττού! \n🎒Εξοπλισμός : Καλή διάθεση και κέφι!!! \nΥποχρεωτικός Εξοπλισμός : Πεζοπορικά μποτάκια\, σακίδιο πλάτης\, μπαστούνια πεζοπορίας\, νερό\, σνακ για ενέργεια\, σφυρίχτρα\, ατομικό φαρμακείο. \nΠροαιρετικός Εξοπλισμός : Ισοθερμικά ρούχα\, fleece ή soft sell jacket\, αντιανεμικό αδιάβροχο\, καπέλο ή σκούφο\, κάλτσες\, γάντια\, κάλυμμα λαιμού\, αντιηλιακή κρέμα\, γυαλιά ηλίου. \n 
URL:https://pezoporoihalandriou.gr/event/3h-diasxisi-imittou/
LOCATION:Υμηττος\, Κοιμητήριο Βούλας - Βούλα\, Βούλα\, Greece
CATEGORIES:Αρχείο Εκδηλώσεων,Εκδηλώσεις 2026,Πεζοπορικές διαδρομές
ATTACH;FMTTYPE=image/jpeg:https://pezoporoihalandriou.gr/evripidis/wp-content/uploads/2025/02/ΥΜΗΤΤΟΣ.jpeg
END:VEVENT
END:VCALENDAR