
BEGIN:VCALENDAR
VERSION:2.0
PRODID:-//Πεζοπόροι Χαλανδρίου &quot;Ευριπίδης&quot; - ECPv6.15.17.1//NONSGML v1.0//EN
CALSCALE:GREGORIAN
METHOD:PUBLISH
X-WR-CALNAME:Πεζοπόροι Χαλανδρίου &quot;Ευριπίδης&quot;
X-ORIGINAL-URL:https://pezoporoihalandriou.gr
X-WR-CALDESC:Πεζοπόροι Χαλανδρίου &quot;Ευριπίδης&quot; - Εκδηλώσεις
REFRESH-INTERVAL;VALUE=DURATION:PT1H
X-Robots-Tag:noindex
X-PUBLISHED-TTL:PT1H
BEGIN:VTIMEZONE
TZID:Europe/Athens
BEGIN:DAYLIGHT
TZOFFSETFROM:+0200
TZOFFSETTO:+0300
TZNAME:EEST
DTSTART:20220327T010000
END:DAYLIGHT
BEGIN:STANDARD
TZOFFSETFROM:+0300
TZOFFSETTO:+0200
TZNAME:EET
DTSTART:20221030T010000
END:STANDARD
BEGIN:DAYLIGHT
TZOFFSETFROM:+0200
TZOFFSETTO:+0300
TZNAME:EEST
DTSTART:20230326T010000
END:DAYLIGHT
BEGIN:STANDARD
TZOFFSETFROM:+0300
TZOFFSETTO:+0200
TZNAME:EET
DTSTART:20231029T010000
END:STANDARD
BEGIN:DAYLIGHT
TZOFFSETFROM:+0200
TZOFFSETTO:+0300
TZNAME:EEST
DTSTART:20240331T010000
END:DAYLIGHT
BEGIN:STANDARD
TZOFFSETFROM:+0300
TZOFFSETTO:+0200
TZNAME:EET
DTSTART:20241027T010000
END:STANDARD
END:VTIMEZONE
BEGIN:VEVENT
DTSTART;VALUE=DATE:20230514
DTEND;VALUE=DATE:20230515
DTSTAMP:20260419T210305
CREATED:20230514T124444Z
LAST-MODIFIED:20240531T112127Z
UID:3671-1684022400-1684108799@pezoporoihalandriou.gr
SUMMARY:Κυριακή 14 Μαΐου 2023 : Rappel και πεζοπορία στο Φαράγγι Τσαγκαράκι στην Εύβοια
DESCRIPTION:Είναι μια περιπέτεια που συνδυάζει την επαφή με την φύση με ποικίλες μορφές άθλησης και άφθονη δόση αδρεναλίνης αλλά ταυτόχρονα με υψηλό βαθμό ασφάλειας. \nΤο Rappel είναι καταρρίχηση με αναρριχητικό εξοπλισμό. Η δράση θα γίνει με την καθοδήγηση των έμπειρων και πιστοποιημένων συνεργατών της ομάδας της Extreme Tours\, οι οποίοι θα μας διαθέσουν και τον κατάλληλο εξοπλισμό. \n Λεπτομέρειες rappel : \nΑριθμός καταβάσεων rappel : 9 \nΜέγιστη κατάβαση : 24 μέτρα \nΜήκος : 1 χλμ. \nΧρόνος πρόσβασης έως την είσοδο : 1 ώρα \nΧρόνος διάσχισης : 5 – 5½ ώρες \nΣυνολικός χρόνος : 6½ – 7 ώρες
URL:https://pezoporoihalandriou.gr/event/kyriaki-14-maiou-rappel-kai-pezoporia-sto-faraggi-tsagkaraki-stin-eyvoia/
CATEGORIES:Εκδηλώσεις 2023,Πεζοπορικές διαδρομές
ATTACH;FMTTYPE=image/jpeg:https://pezoporoihalandriou.gr/evripidis/wp-content/uploads/2023/05/τσαγ.jpg
END:VEVENT
END:VCALENDAR